BEGIN:VCALENDAR
VERSION:2.0
PRODID:-//IZM - ECPv6.15.17.1//NONSGML v1.0//EN
CALSCALE:GREGORIAN
METHOD:PUBLISH
X-WR-CALNAME:IZM
X-ORIGINAL-URL:https://izm.de/?lang=en
X-WR-CALDESC:Events for IZM
REFRESH-INTERVAL;VALUE=DURATION:PT1H
X-Robots-Tag:noindex
X-PUBLISHED-TTL:PT1H
BEGIN:VTIMEZONE
TZID:Europe/Berlin
BEGIN:DAYLIGHT
TZOFFSETFROM:+0100
TZOFFSETTO:+0200
TZNAME:CEST
DTSTART:20120325T010000
END:DAYLIGHT
BEGIN:STANDARD
TZOFFSETFROM:+0200
TZOFFSETTO:+0100
TZNAME:CET
DTSTART:20121028T010000
END:STANDARD
BEGIN:DAYLIGHT
TZOFFSETFROM:+0100
TZOFFSETTO:+0200
TZNAME:CEST
DTSTART:20130331T010000
END:DAYLIGHT
BEGIN:STANDARD
TZOFFSETFROM:+0200
TZOFFSETTO:+0100
TZNAME:CET
DTSTART:20131027T010000
END:STANDARD
BEGIN:DAYLIGHT
TZOFFSETFROM:+0100
TZOFFSETTO:+0200
TZNAME:CEST
DTSTART:20140330T010000
END:DAYLIGHT
BEGIN:STANDARD
TZOFFSETFROM:+0200
TZOFFSETTO:+0100
TZNAME:CET
DTSTART:20141026T010000
END:STANDARD
END:VTIMEZONE
BEGIN:VEVENT
DTSTART;VALUE=DATE:20130706
DTEND;VALUE=DATE:20131007
DTSTAMP:20260423T084729
CREATED:20130620T101120Z
LAST-MODIFIED:20131225T201253Z
UID:10001606-1373068800-1381103999@izm.de
SUMMARY:Robert Capa "Israel"
DESCRIPTION:Der weltberühmte Kriegsfotograf Robert Capa (1913 – 1954) hat 1948 die Gründung des Staates Israel eindrucksvoll fotografisch begleitet. Das Internationale Zeitungsmuseum stellt eine Auswahl dieser Werke anlässlich des Einhundertsten Geburtstages von Capa vor. \nAls ungarischer Jude – sein richtiger Name lautet Endre Ernő Friedmann – befasste sich Robert Capa intensiv mit dem Schicksal der verfolgten Juden nach dem Zweiten Weltkrieg und dem Versuch einer jüdischen Staatsgründung in Israel. Zwischen 1948 und 1950 bereiste Capa das Land drei Mal. Auf der ersten Reise berichtete er über die Unabhängigkeitserklärung und die darauf folgenden Kämpfe die er als Augenzeuge der Weltöffentlichkeit übermittelte. Bei den weiteren Besuchen dokumentierte er durchaus empathisch die Flüchtlingsproblematik und die ersten Projekte des noch jungen Staates. Ausgestattet mit zwei verschiedenen Kameras\, einer Rolleiflex und einer Leica\, filmte er sowohl Kampfhandlungen als auch Alltagsszenen wie die Urbarmachung des Landes\, die Ankunft von Flüchtlingen und die Errichtung von Infrastruktur. \nFast alle Werke Capas gelten als Ikonen der Bildberichterstattung und sind einflussreiche Zeugnisse der Mediengeschichte. \nDas IZM zeigt 46 Werke des Gründungsmitgliedes der weltberühmten Foto-Agentur Magnum.
URL:https://izm.de/event/robert-capa-israel-3/?lang=en
CATEGORIES:Ausstellung
ATTACH;FMTTYPE=image/jpeg:https://izm.de/wp-content/uploads/2013/06/PAR799921.jpg
END:VEVENT
END:VCALENDAR