BEGIN:VCALENDAR
VERSION:2.0
PRODID:-//IZM - ECPv6.15.17.1//NONSGML v1.0//EN
CALSCALE:GREGORIAN
METHOD:PUBLISH
X-ORIGINAL-URL:https://izm.de/?lang=en
X-WR-CALDESC:Events for IZM
REFRESH-INTERVAL;VALUE=DURATION:PT1H
X-Robots-Tag:noindex
X-PUBLISHED-TTL:PT1H
BEGIN:VTIMEZONE
TZID:Europe/Berlin
BEGIN:DAYLIGHT
TZOFFSETFROM:+0100
TZOFFSETTO:+0200
TZNAME:CEST
DTSTART:20100328T010000
END:DAYLIGHT
BEGIN:STANDARD
TZOFFSETFROM:+0200
TZOFFSETTO:+0100
TZNAME:CET
DTSTART:20101031T010000
END:STANDARD
BEGIN:DAYLIGHT
TZOFFSETFROM:+0100
TZOFFSETTO:+0200
TZNAME:CEST
DTSTART:20110327T010000
END:DAYLIGHT
BEGIN:STANDARD
TZOFFSETFROM:+0200
TZOFFSETTO:+0100
TZNAME:CET
DTSTART:20111030T010000
END:STANDARD
BEGIN:DAYLIGHT
TZOFFSETFROM:+0100
TZOFFSETTO:+0200
TZNAME:CEST
DTSTART:20120325T010000
END:DAYLIGHT
BEGIN:STANDARD
TZOFFSETFROM:+0200
TZOFFSETTO:+0100
TZNAME:CET
DTSTART:20121028T010000
END:STANDARD
END:VTIMEZONE
BEGIN:VEVENT
DTSTART;VALUE=DATE:20110708
DTEND;VALUE=DATE:20110827
DTSTAMP:20260424T181958
CREATED:20110708T075754Z
LAST-MODIFIED:20110708T075754Z
UID:10001202-1310083200-1314403199@izm.de
SUMMARY:The Newspaper. Ready for the museum?!
DESCRIPTION:Machen Sie sich ein Bild von der Zukunft des Mediums Zeitung. Gezeigt wird\, wie junger Leser einerseits und junge Journalisten andererseits die Zukunftschancen der gedruckten Zeitung bewerten. \nLässt das Internet die Printmedien tatsächlich so alt aussehen\, dass Zeitungen bald schon nur noch in Museen zu finden sein werden? Stellen Printmedien ein Kulturgut dar\, das es zu schützen gilt? Antworten und Denkanstöße geben über 2.000 Kinder und Jugendliche sowie Schüler der renommiertesten Journalistenschule Deutschlands. Präsentiert werden sowohl die detaillierten Umfrageergebnisse als auch eine große Auswahl von Begründungen\, welche die Schüler für ihre Prognosen und Präferenzen verfassten. \nFür die Ausstellung erstellte eine Klasse der Deutsche Journalistenschule eine Zeitung\, die sich vollständig und tiefgründig mit der Zukunft der Printmedien befasst. Sie trägt den Namen „Umbruch“ – Untertitel: „Die Seiten ändern sich“. Wie sich die Zeiten für gedruckte Seiten ändern\, beantworten in Essays\, Interviews und Geschichten erfolgreiche Medienmacher wie Stefan Niggemeier (ausgezeichneter Medienjournalist und Blogger)\, Hans-Jürgen Jakobs (Süddeutsche Zeitung\, bis 2010 Chefredakteur der Website\, jetzt Leiter des Wirtschaftsressorts)\, Carlo Imboden (Erfinder „Reader-Scan“)\, Søren Nyeland (Design-Redakteur Politiken\, Dänemark) und Gard Steiro (Chefredakteur Tidende\, Norwegen). Das Design der DJS-Zeitung entwickelte Dominique Bößner („Letterwerk“\, Berlin und Zürich). \nDie Ausstellung entstand in Zusammenarbeit mit dem medienpädagogischen Fachinstitut PROMEDIA in Alsdorf und der Deutschen Journalistenschule in München. Sie wurde kuratiert von Peter Motz\, freier Journalist aus Aachen\, im Auftrag des Fördervereins des Internationalen Zeitungsmuseums der Stadt Aachen.
URL:https://izm.de/event/newspaper-ready-for-museum/?lang=en
CATEGORIES:Ausstellung
ATTACH;FMTTYPE=image/jpeg:https://izm.de/wp-content/uploads/2011/07/teaser_gross_medienzukunft_klein.jpg
END:VEVENT
END:VCALENDAR