BEGIN:VCALENDAR
VERSION:2.0
PRODID:-//IZM - ECPv6.15.17.1//NONSGML v1.0//EN
CALSCALE:GREGORIAN
METHOD:PUBLISH
X-ORIGINAL-URL:https://izm.de
X-WR-CALDESC:Veranstaltungen für IZM
REFRESH-INTERVAL;VALUE=DURATION:PT1H
X-Robots-Tag:noindex
X-PUBLISHED-TTL:PT1H
BEGIN:VTIMEZONE
TZID:Europe/Berlin
BEGIN:DAYLIGHT
TZOFFSETFROM:+0100
TZOFFSETTO:+0200
TZNAME:CEST
DTSTART:20250330T010000
END:DAYLIGHT
BEGIN:STANDARD
TZOFFSETFROM:+0200
TZOFFSETTO:+0100
TZNAME:CET
DTSTART:20251026T010000
END:STANDARD
BEGIN:DAYLIGHT
TZOFFSETFROM:+0100
TZOFFSETTO:+0200
TZNAME:CEST
DTSTART:20260329T010000
END:DAYLIGHT
BEGIN:STANDARD
TZOFFSETFROM:+0200
TZOFFSETTO:+0100
TZNAME:CET
DTSTART:20261025T010000
END:STANDARD
BEGIN:DAYLIGHT
TZOFFSETFROM:+0100
TZOFFSETTO:+0200
TZNAME:CEST
DTSTART:20270328T010000
END:DAYLIGHT
BEGIN:STANDARD
TZOFFSETFROM:+0200
TZOFFSETTO:+0100
TZNAME:CET
DTSTART:20271031T010000
END:STANDARD
END:VTIMEZONE
BEGIN:VEVENT
DTSTART;TZID=Europe/Berlin:20260320T103000
DTEND;TZID=Europe/Berlin:20260320T123000
DTSTAMP:20260421T120711
CREATED:20260202T122647Z
LAST-MODIFIED:20260204T122331Z
UID:10002401-1774002600-1774009800@izm.de
SUMMARY:Erzählcafé für Senior*innen – „Träume“
DESCRIPTION:Jeder Mensch träumt nachts\, selten kann man sich daran erinnern. Manchmal träumen wir Dinge aber auch mehrmals. Es gibt Menschen\, die ihre Träume aufschreiben\, um mehr von sich selbst zu erfahren. Dazu können auch Traumdeuter helfen.\nManchmal sind Träume so deutlich\, dass man nicht weiß\, ob man es geträumt hat\, oder ob es real ist. In Heiligengeschichten spielen Träume oft eine Rolle (Clara Fey).\nGibt es Träume\, die Sie begleitet haben\, oder die Sie erzählt bekommen haben? \nLeitung: Hildegard van de Braak\nKosten: 6\,00 Euro / erm. 4\,00 Euro \nAnmeldung:\nMuseumsdienst der Stadt Aachen\nTel.: +49 241 432-4998\nmuseumsdienst@mail.aachen.de\nServicezeiten: Di – Fr 9.00 – 14.00 Uhr \n  \n 
URL:https://izm.de/event/erzaehlcafe-fuer-seniorinnen-traeume/
LOCATION:IZM\, Pontstraße 13\, Aachen\, 52062
CATEGORIES:Erzählcafé
ATTACH;FMTTYPE=image/jpeg:https://izm.de/wp-content/uploads/2013/09/IZM-Fassade-Eingang-2_web1.jpg
END:VEVENT
END:VCALENDAR