BEGIN:VCALENDAR
VERSION:2.0
PRODID:-//IZM - ECPv6.15.17.1//NONSGML v1.0//EN
CALSCALE:GREGORIAN
METHOD:PUBLISH
X-ORIGINAL-URL:https://izm.de
X-WR-CALDESC:Veranstaltungen für IZM
REFRESH-INTERVAL;VALUE=DURATION:PT1H
X-Robots-Tag:noindex
X-PUBLISHED-TTL:PT1H
BEGIN:VTIMEZONE
TZID:Europe/Berlin
BEGIN:DAYLIGHT
TZOFFSETFROM:+0100
TZOFFSETTO:+0200
TZNAME:CEST
DTSTART:20250330T010000
END:DAYLIGHT
BEGIN:STANDARD
TZOFFSETFROM:+0200
TZOFFSETTO:+0100
TZNAME:CET
DTSTART:20251026T010000
END:STANDARD
BEGIN:DAYLIGHT
TZOFFSETFROM:+0100
TZOFFSETTO:+0200
TZNAME:CEST
DTSTART:20260329T010000
END:DAYLIGHT
BEGIN:STANDARD
TZOFFSETFROM:+0200
TZOFFSETTO:+0100
TZNAME:CET
DTSTART:20261025T010000
END:STANDARD
BEGIN:DAYLIGHT
TZOFFSETFROM:+0100
TZOFFSETTO:+0200
TZNAME:CEST
DTSTART:20270328T010000
END:DAYLIGHT
BEGIN:STANDARD
TZOFFSETFROM:+0200
TZOFFSETTO:+0100
TZNAME:CET
DTSTART:20271031T010000
END:STANDARD
END:VTIMEZONE
BEGIN:VEVENT
DTSTART;TZID=Europe/Berlin:20260116T103000
DTEND;TZID=Europe/Berlin:20260116T123000
DTSTAMP:20260421T152622
CREATED:20251205T093219Z
LAST-MODIFIED:20251205T093219Z
UID:10002396-1768559400-1768566600@izm.de
SUMMARY:Erzählcafé für Senior*innen – Sinn
DESCRIPTION:Am Anfang eines Jahres besteht noch Ungewissheit\, was das neue Jahr wohl bringen wird. Man will die Zeit sinnvoll planen und erleben\, nicht einfach so „die Zeit vertun“. Sinnerfülltes Leben gibt auch Zufriedenheit.\nIn der heutigen Umgangssprache wird oft gesagt: „das macht Sinn“\, wenn jemand verstanden hat\, worum es geht und das gut findet.\nAber was ist das? Was gibt Ihnen Sinn? Sinn stellt sich für jeden Menschen anders dar. Ist es eine Aufgabe – wie zum Beispiel das Dasein für Andere –\, ein Beitrag zu etwas Höherem? \nLeitung: Hildegard van de Braak\nKosten: 10\,00 Euro / erm. 6\,00 Euro \nAnmeldung:\nMuseumsdienst der Stadt Aachen\nTel.: +49 241 432-4998\nmuseumsdienst@mail.aachen.de\nServicezeiten: Di – Fr 9.00 – 14.00 Uhr \n  \n 
URL:https://izm.de/event/erzaehlcafe-fuer-seniorinnen-sinn/
LOCATION:IZM\, Pontstraße 13\, Aachen\, 52062
CATEGORIES:Erzählcafé
ATTACH;FMTTYPE=image/jpeg:https://izm.de/wp-content/uploads/2013/09/IZM-Fassade-Eingang-2_web1.jpg
END:VEVENT
END:VCALENDAR