BEGIN:VCALENDAR
VERSION:2.0
PRODID:-//IZM - ECPv6.15.17.1//NONSGML v1.0//EN
CALSCALE:GREGORIAN
METHOD:PUBLISH
X-WR-CALNAME:IZM
X-ORIGINAL-URL:https://izm.de
X-WR-CALDESC:Veranstaltungen für IZM
REFRESH-INTERVAL;VALUE=DURATION:PT1H
X-Robots-Tag:noindex
X-PUBLISHED-TTL:PT1H
BEGIN:VTIMEZONE
TZID:Europe/Berlin
BEGIN:DAYLIGHT
TZOFFSETFROM:+0100
TZOFFSETTO:+0200
TZNAME:CEST
DTSTART:20240331T010000
END:DAYLIGHT
BEGIN:STANDARD
TZOFFSETFROM:+0200
TZOFFSETTO:+0100
TZNAME:CET
DTSTART:20241027T010000
END:STANDARD
BEGIN:DAYLIGHT
TZOFFSETFROM:+0100
TZOFFSETTO:+0200
TZNAME:CEST
DTSTART:20250330T010000
END:DAYLIGHT
BEGIN:STANDARD
TZOFFSETFROM:+0200
TZOFFSETTO:+0100
TZNAME:CET
DTSTART:20251026T010000
END:STANDARD
BEGIN:DAYLIGHT
TZOFFSETFROM:+0100
TZOFFSETTO:+0200
TZNAME:CEST
DTSTART:20260329T010000
END:DAYLIGHT
BEGIN:STANDARD
TZOFFSETFROM:+0200
TZOFFSETTO:+0100
TZNAME:CET
DTSTART:20261025T010000
END:STANDARD
END:VTIMEZONE
BEGIN:VEVENT
DTSTART;TZID=Europe/Berlin:20250919T103000
DTEND;TZID=Europe/Berlin:20250919T123000
DTSTAMP:20260421T214850
CREATED:20250805T101303Z
LAST-MODIFIED:20250805T101303Z
UID:10002382-1758277800-1758285000@izm.de
SUMMARY:Tagebuch
DESCRIPTION:Es gibt unterschiedliche Arten\, Tagebücher zu führen\, ausführlich\, stichwortartig im Kalender\, nachträglich aus dem Gedächtnis\, mit Bildern…Manche Tagebücher sind beruflich\, andere privat\, einige alltäglich oder auch geheim. Einigen Autori*innen ist es ganz wichtig\, Dinge festzuhalten\, weil sie auf diese Weise reflektieren und über Vergangenes nachdenken. Anderen ist es wichtig\, Dinge nicht zu vergessen\, wieder andere führen ein Tagebuch sporadisch oder es bedeutet ihnen gar nichts. \nManche Tagebücher werden auch berühmt\, wie das der Anne Frank. \nHaben Sie Tagebuch geschrieben oder schreiben heute noch? \nLeitung: Hildegard van de Braak \nKosten: 6\,00 Euro / ermäßigt: 4\,00 Euro \nDie Veranstaltung richtet sich an Senior*innen. \nAnmeldung:  \nMuseumsdienst der Stadt Aachen\nTel.: +49 241 432-4998\nmuseumsdienst@mail.aachen.de \nServicezeiten: Di – Fr 9.00 – 14.00 Uhr \n  \n 
URL:https://izm.de/event/nachrichten-gestern-heute-morgen-2-2-2/
LOCATION:IZM\, Pontstraße 13\, Aachen\, 52062
CATEGORIES:Erzählcafé
ATTACH;FMTTYPE=image/jpeg:https://izm.de/wp-content/uploads/2012/06/photocasexmqhd4dc53701561.jpg
END:VEVENT
END:VCALENDAR