BEGIN:VCALENDAR
VERSION:2.0
PRODID:-//IZM - ECPv6.15.17.1//NONSGML v1.0//EN
CALSCALE:GREGORIAN
METHOD:PUBLISH
X-ORIGINAL-URL:https://izm.de
X-WR-CALDESC:Veranstaltungen für IZM
REFRESH-INTERVAL;VALUE=DURATION:PT1H
X-Robots-Tag:noindex
X-PUBLISHED-TTL:PT1H
BEGIN:VTIMEZONE
TZID:Europe/Berlin
BEGIN:DAYLIGHT
TZOFFSETFROM:+0100
TZOFFSETTO:+0200
TZNAME:CEST
DTSTART:20240331T010000
END:DAYLIGHT
BEGIN:STANDARD
TZOFFSETFROM:+0200
TZOFFSETTO:+0100
TZNAME:CET
DTSTART:20241027T010000
END:STANDARD
BEGIN:DAYLIGHT
TZOFFSETFROM:+0100
TZOFFSETTO:+0200
TZNAME:CEST
DTSTART:20250330T010000
END:DAYLIGHT
BEGIN:STANDARD
TZOFFSETFROM:+0200
TZOFFSETTO:+0100
TZNAME:CET
DTSTART:20251026T010000
END:STANDARD
BEGIN:DAYLIGHT
TZOFFSETFROM:+0100
TZOFFSETTO:+0200
TZNAME:CEST
DTSTART:20260329T010000
END:DAYLIGHT
BEGIN:STANDARD
TZOFFSETFROM:+0200
TZOFFSETTO:+0100
TZNAME:CET
DTSTART:20261025T010000
END:STANDARD
END:VTIMEZONE
BEGIN:VEVENT
DTSTART;TZID=Europe/Berlin:20250815T103000
DTEND;TZID=Europe/Berlin:20250815T123000
DTSTAMP:20260421T233236
CREATED:20250626T133108Z
LAST-MODIFIED:20250626T133108Z
UID:10002380-1755253800-1755261000@izm.de
SUMMARY:Erzählcafé für Senior*innen: Heute zum Thema Fotos
DESCRIPTION:Fr 15.08.2025\, 10.30 – 12.30 Uhr \nFotos machen und Fotos anschauen ist eine verbreitete und sehr gute Möglichkeit\, Erinnerungen festzuhalten. Diese kann man dann allein oder auch mit Anderen ansehen und sich daran erfreuen. Auch nach vielen Jahren ist es schön\, zu fragen: Weißt Du noch? Bis noch vor ca. 15 Jahren machte man Fotos und klebte sie in Fotoalben\, beschriftete sie und stellte sie in den Schrank. Heute werden mit dem Handy ganz viele Fotos gemacht und digital gespeichert. Manchmal werden Bücher davon gemacht\, aber die meisten – irgendwann gelöscht? \nWelche Erfahrungen haben Sie mit Fotos? \nLeitung: Hildegard van de Braak \nKosten: 6\,00 Euro / ermäßigt: 4\,00 Euro \n  \nAnmeldung:  \nMuseumsdienst der Stadt Aachen\nTel.: +49 241 432-4998\nmuseumsdienst@mail.aachen.de \nServicezeiten: Di – Fr 9.00 – 14.00 Uhr
URL:https://izm.de/event/erzaehlcafe-fuer-seniorinnen-heute-zum-thema-fotos/
LOCATION:IZM\, Pontstraße 13\, Aachen\, 52062
CATEGORIES:Erzählcafé
ATTACH;FMTTYPE=image/jpeg:https://izm.de/wp-content/uploads/2014/02/Reportage.jpg
END:VEVENT
END:VCALENDAR