BEGIN:VCALENDAR
VERSION:2.0
PRODID:-//IZM - ECPv6.15.17.1//NONSGML v1.0//EN
CALSCALE:GREGORIAN
METHOD:PUBLISH
X-WR-CALNAME:IZM
X-ORIGINAL-URL:https://izm.de
X-WR-CALDESC:Veranstaltungen für IZM
REFRESH-INTERVAL;VALUE=DURATION:PT1H
X-Robots-Tag:noindex
X-PUBLISHED-TTL:PT1H
BEGIN:VTIMEZONE
TZID:Europe/Berlin
BEGIN:DAYLIGHT
TZOFFSETFROM:+0100
TZOFFSETTO:+0200
TZNAME:CEST
DTSTART:20230326T010000
END:DAYLIGHT
BEGIN:STANDARD
TZOFFSETFROM:+0200
TZOFFSETTO:+0100
TZNAME:CET
DTSTART:20231029T010000
END:STANDARD
BEGIN:DAYLIGHT
TZOFFSETFROM:+0100
TZOFFSETTO:+0200
TZNAME:CEST
DTSTART:20240331T010000
END:DAYLIGHT
BEGIN:STANDARD
TZOFFSETFROM:+0200
TZOFFSETTO:+0100
TZNAME:CET
DTSTART:20241027T010000
END:STANDARD
BEGIN:DAYLIGHT
TZOFFSETFROM:+0100
TZOFFSETTO:+0200
TZNAME:CEST
DTSTART:20250330T010000
END:DAYLIGHT
BEGIN:STANDARD
TZOFFSETFROM:+0200
TZOFFSETTO:+0100
TZNAME:CET
DTSTART:20251026T010000
END:STANDARD
END:VTIMEZONE
BEGIN:VEVENT
DTSTART;TZID=Europe/Berlin:20241115T103000
DTEND;TZID=Europe/Berlin:20241115T123000
DTSTAMP:20260422T134246
CREATED:20241008T130538Z
LAST-MODIFIED:20241010T131958Z
UID:10002358-1731666600-1731673800@izm.de
SUMMARY:Erzählcafé für Senior*innen: Handwerk zuhause
DESCRIPTION:Was kann man selber machen? „Das kriegen wir schon hin!“ Auf Handwerker muss man ohnehin länger warten und sie sind teuer. Also wird einiges selbst gemacht. Ob die Fugen nachher schief sind\, der Wasserhahn dauernd wackelt\, Kabelsalat entsteht … Was macht das schon? Hauptsache es funktioniert. Und das Experimentieren und Selbermachen macht Spaß\, was auch den großen Erfolg von Ikea erklärt. Was haben Sie schon beim Selberhandwerkeln erlebt? \nMit Hildegard van de Braak \nKosten: 6\,00 Euro / erm. 4\,00 Euro\nAuskunft und Anmeldung:\nMuseumsdienst der Stadt Aachen\nTel.: +49 241 432-4998\, Mail: museumsdienst@mail.aachen.de\nServicezeiten: Di\, Do\, Fr 9.00 – 14.00 Uhr\, Mi 9.00 – 12.00 Uhr\, 14.00 – 17.00 Uhr\, \n 
URL:https://izm.de/event/erzaehlcafe-fuer-seniorinnen-handwerk-zuhause/
LOCATION:IZM\, Pontstraße 13\, Aachen\, 52062
CATEGORIES:Erzählcafé
ATTACH;FMTTYPE=image/jpeg:https://izm.de/wp-content/uploads/2013/09/IZM-Fassade-Eingang-2_web1.jpg
END:VEVENT
END:VCALENDAR