BEGIN:VCALENDAR
VERSION:2.0
PRODID:-//IZM - ECPv6.15.17.1//NONSGML v1.0//EN
CALSCALE:GREGORIAN
METHOD:PUBLISH
X-ORIGINAL-URL:https://izm.de
X-WR-CALDESC:Veranstaltungen für IZM
REFRESH-INTERVAL;VALUE=DURATION:PT1H
X-Robots-Tag:noindex
X-PUBLISHED-TTL:PT1H
BEGIN:VTIMEZONE
TZID:Europe/Berlin
BEGIN:DAYLIGHT
TZOFFSETFROM:+0100
TZOFFSETTO:+0200
TZNAME:CEST
DTSTART:20230326T010000
END:DAYLIGHT
BEGIN:STANDARD
TZOFFSETFROM:+0200
TZOFFSETTO:+0100
TZNAME:CET
DTSTART:20231029T010000
END:STANDARD
BEGIN:DAYLIGHT
TZOFFSETFROM:+0100
TZOFFSETTO:+0200
TZNAME:CEST
DTSTART:20240331T010000
END:DAYLIGHT
BEGIN:STANDARD
TZOFFSETFROM:+0200
TZOFFSETTO:+0100
TZNAME:CET
DTSTART:20241027T010000
END:STANDARD
BEGIN:DAYLIGHT
TZOFFSETFROM:+0100
TZOFFSETTO:+0200
TZNAME:CEST
DTSTART:20250330T010000
END:DAYLIGHT
BEGIN:STANDARD
TZOFFSETFROM:+0200
TZOFFSETTO:+0100
TZNAME:CET
DTSTART:20251026T010000
END:STANDARD
END:VTIMEZONE
BEGIN:VEVENT
DTSTART;TZID=Europe/Berlin:20240906T103000
DTEND;TZID=Europe/Berlin:20240906T123000
DTSTAMP:20260422T163640
CREATED:20240801T133229Z
LAST-MODIFIED:20240801T133229Z
UID:10002352-1725618600-1725625800@izm.de
SUMMARY:Erzählcafé für Senior*innen: Landwirtschaft früher und heute
DESCRIPTION:Abschied von einer Romantischen Landwirtschaft\, die Umgestaltung in den 1960er Jahren \nÜber Bauern und Landwirtschaft wird heute viel geschrieben und diskutiert. Anfragen an Massentierhaltung\, ökologische Forderungen\, Subventionen …\nEin großer Umbau der Landwirtschaft erfolgte in den 1960er Jahren mit der Mechanisierung und dem Einsatz von Maschinen. Pferde waren nicht mehr zum Arbeiten\, sondern zum Reiten da. Bisher lebten viele Menschen auf einem Hof\, dann fast nur noch die Familie\, weil Maschinen die Arbeit übernahmen. Die alte Landwirtschaft wurde romantisiert. Die Teilnehmenden sprechen über eigenen Erinnerungen an die Landwirtschaft der Kindheit. \nLeitung: Hildegard van de Braak\nKosten: 6\,00 Euro / erm. 4\,00 Euro\nAuskunft und Anmeldung:\nMuseumsdienst der Stadt Aachen\nTel.: +49 241 432-4998\, Mail: museumsdienst@mail.aachen.de\nServicezeiten: Di\, Do\, Fr 9.00 – 14.00 Uhr\, Mi 9.00 – 12.00 Uhr\, 14.00 – 17.00 Uhr\, \n 
URL:https://izm.de/event/erzaehlcafe-fuer-seniorinnen-zum-thema-fussball-und-fangemeinden-2/
LOCATION:IZM\, Pontstraße 13\, Aachen\, 52062
CATEGORIES:Erzählcafé
ATTACH;FMTTYPE=image/jpeg:https://izm.de/wp-content/uploads/2013/09/IZM-Fassade-Eingang-2_web1.jpg
END:VEVENT
END:VCALENDAR