BEGIN:VCALENDAR
VERSION:2.0
PRODID:-//IZM - ECPv6.15.17.1//NONSGML v1.0//EN
CALSCALE:GREGORIAN
METHOD:PUBLISH
X-WR-CALNAME:IZM
X-ORIGINAL-URL:https://izm.de
X-WR-CALDESC:Veranstaltungen für IZM
REFRESH-INTERVAL;VALUE=DURATION:PT1H
X-Robots-Tag:noindex
X-PUBLISHED-TTL:PT1H
BEGIN:VTIMEZONE
TZID:Europe/Berlin
BEGIN:DAYLIGHT
TZOFFSETFROM:+0100
TZOFFSETTO:+0200
TZNAME:CEST
DTSTART:20230326T010000
END:DAYLIGHT
BEGIN:STANDARD
TZOFFSETFROM:+0200
TZOFFSETTO:+0100
TZNAME:CET
DTSTART:20231029T010000
END:STANDARD
BEGIN:DAYLIGHT
TZOFFSETFROM:+0100
TZOFFSETTO:+0200
TZNAME:CEST
DTSTART:20240331T010000
END:DAYLIGHT
BEGIN:STANDARD
TZOFFSETFROM:+0200
TZOFFSETTO:+0100
TZNAME:CET
DTSTART:20241027T010000
END:STANDARD
BEGIN:DAYLIGHT
TZOFFSETFROM:+0100
TZOFFSETTO:+0200
TZNAME:CEST
DTSTART:20250330T010000
END:DAYLIGHT
BEGIN:STANDARD
TZOFFSETFROM:+0200
TZOFFSETTO:+0100
TZNAME:CET
DTSTART:20251026T010000
END:STANDARD
END:VTIMEZONE
BEGIN:VEVENT
DTSTART;TZID=Europe/Berlin:20240510T103000
DTEND;TZID=Europe/Berlin:20240510T123000
DTSTAMP:20260422T221320
CREATED:20240409T130904Z
LAST-MODIFIED:20240506T070914Z
UID:10002343-1715337000-1715344200@izm.de
SUMMARY:Erzählcafé für Senior*innen zum Thema: Lieblingsbücher
DESCRIPTION:Es gibt Bücher\, die will man mehrmals lesen\, andere einfach nur in besonderer Erinnerung halten. Als Kinder und Jugendliche waren es für uns vielleicht Comics oder Abenteuerromane\, später besonders Biografien oder Romane bestimmter Autoren\, vielleicht nach Bestsellerlisten ausgewählt\, Geheimtipps weitergegeben. Manches Buch hat man verschlungen und an Gleichgesinnte weiterverschenkt\, andere nicht erst zu Ende gelesen. Welche Bücher lagen oder liegen Ihnen am Herzen? \nLeitung: Hildegard van de Braak\nKosten: 6\,00 Euro / erm. 4\,00 Euro\nAuskunft und Anmeldung:\nMuseumsdienst der Stadt Aachen\nTel.: +49 241 432-4998\, Mail: museumsdienst@mail.aachen.de\nServicezeiten: Di\, Do\, Fr 9.00 – 14.00 Uhr\, Mi 9.00 – 12.00 Uhr\, 14.00 – 17.00 Uhr\, \n 
URL:https://izm.de/event/erzaehlcafe-fuer-seniorinnen-zum-thema-lieblingsbuecher/
LOCATION:IZM\, Pontstraße 13\, Aachen\, 52062
CATEGORIES:Erzählcafé
ATTACH;FMTTYPE=image/jpeg:https://izm.de/wp-content/uploads/2013/09/IZM-Fassade-Eingang-2_web1.jpg
END:VEVENT
END:VCALENDAR