BEGIN:VCALENDAR
VERSION:2.0
PRODID:-//IZM - ECPv6.15.17.1//NONSGML v1.0//EN
CALSCALE:GREGORIAN
METHOD:PUBLISH
X-WR-CALNAME:IZM
X-ORIGINAL-URL:https://izm.de
X-WR-CALDESC:Veranstaltungen für IZM
REFRESH-INTERVAL;VALUE=DURATION:PT1H
X-Robots-Tag:noindex
X-PUBLISHED-TTL:PT1H
BEGIN:VTIMEZONE
TZID:Europe/Berlin
BEGIN:DAYLIGHT
TZOFFSETFROM:+0100
TZOFFSETTO:+0200
TZNAME:CEST
DTSTART:20230326T010000
END:DAYLIGHT
BEGIN:STANDARD
TZOFFSETFROM:+0200
TZOFFSETTO:+0100
TZNAME:CET
DTSTART:20231029T010000
END:STANDARD
BEGIN:DAYLIGHT
TZOFFSETFROM:+0100
TZOFFSETTO:+0200
TZNAME:CEST
DTSTART:20240331T010000
END:DAYLIGHT
BEGIN:STANDARD
TZOFFSETFROM:+0200
TZOFFSETTO:+0100
TZNAME:CET
DTSTART:20241027T010000
END:STANDARD
BEGIN:DAYLIGHT
TZOFFSETFROM:+0100
TZOFFSETTO:+0200
TZNAME:CEST
DTSTART:20250330T010000
END:DAYLIGHT
BEGIN:STANDARD
TZOFFSETFROM:+0200
TZOFFSETTO:+0100
TZNAME:CET
DTSTART:20251026T010000
END:STANDARD
END:VTIMEZONE
BEGIN:VEVENT
DTSTART;TZID=Europe/Berlin:20240119T103000
DTEND;TZID=Europe/Berlin:20240119T123000
DTSTAMP:20260423T055343
CREATED:20231130T101407Z
LAST-MODIFIED:20231130T102306Z
UID:10002318-1705660200-1705667400@izm.de
SUMMARY:Hilfe annehmen
DESCRIPTION:Erzählcafé für Senior*innen \nOft ist es schwieriger\, Hilfe anzunehmen\, als sie zu geben. Wenn man Hilfe annehmen muss\, ist man in der Regel in der Position des Schwächeren. Aber wenn niemand Hilfe annimmt\, kann sie auch niemand geben. Wir sind aufeinander angewiesen. Gerade im Alter muss man immer mehr Hilfe annehmen\, vieles abgeben\, nicht an Materiellem\, sondern auch an Fähigkeiten. \nLeitung: Hildegard van de Braak\nKosten: 6\,00 Euro / erm. 4\,00 Euro\nAuskunft und Anmeldung:\nMuseumsdienst der Stadt Aachen\nTel.: +49 241 432-4998\nServicezeiten: Di\, Do u. Fr: 9.00 – 14.00 Uhr\, Mi 9.00 – 12.00 Uhr\, 14.00 – 17.00 Uhr\, Mail: museumsdienst@mail.aachen.de \n 
URL:https://izm.de/event/hilfe-annehmen-2/
LOCATION:IZM\, Pontstraße 13\, Aachen\, 52062
CATEGORIES:Erzählcafé
ATTACH;FMTTYPE=image/jpeg:https://izm.de/wp-content/uploads/2013/09/IZM-Fassade-Eingang-2_web1.jpg
END:VEVENT
END:VCALENDAR