BEGIN:VCALENDAR
VERSION:2.0
PRODID:-//IZM - ECPv6.15.17.1//NONSGML v1.0//EN
CALSCALE:GREGORIAN
METHOD:PUBLISH
X-ORIGINAL-URL:https://izm.de
X-WR-CALDESC:Veranstaltungen für IZM
REFRESH-INTERVAL;VALUE=DURATION:PT1H
X-Robots-Tag:noindex
X-PUBLISHED-TTL:PT1H
BEGIN:VTIMEZONE
TZID:Europe/Berlin
BEGIN:DAYLIGHT
TZOFFSETFROM:+0100
TZOFFSETTO:+0200
TZNAME:CEST
DTSTART:20220327T010000
END:DAYLIGHT
BEGIN:STANDARD
TZOFFSETFROM:+0200
TZOFFSETTO:+0100
TZNAME:CET
DTSTART:20221030T010000
END:STANDARD
BEGIN:DAYLIGHT
TZOFFSETFROM:+0100
TZOFFSETTO:+0200
TZNAME:CEST
DTSTART:20230326T010000
END:DAYLIGHT
BEGIN:STANDARD
TZOFFSETFROM:+0200
TZOFFSETTO:+0100
TZNAME:CET
DTSTART:20231029T010000
END:STANDARD
BEGIN:DAYLIGHT
TZOFFSETFROM:+0100
TZOFFSETTO:+0200
TZNAME:CEST
DTSTART:20240331T010000
END:DAYLIGHT
BEGIN:STANDARD
TZOFFSETFROM:+0200
TZOFFSETTO:+0100
TZNAME:CET
DTSTART:20241027T010000
END:STANDARD
END:VTIMEZONE
BEGIN:VEVENT
DTSTART;TZID=Europe/Berlin:20231006T103000
DTEND;TZID=Europe/Berlin:20231006T123000
DTSTAMP:20260423T112452
CREATED:20230911T140136Z
LAST-MODIFIED:20230911T140136Z
UID:10002301-1696588200-1696595400@izm.de
SUMMARY:Rituale
DESCRIPTION:Erzählcafé für Senioren \nJede*r von uns kennt und pflegt Rituale. Es beginnt mit dem Aufstehen\, geht weiter mit dem Frühstück. Auch im Erzählcafe haben wir Rituale entwickelt. Sie helfen uns im Leben\, erleichtern es\, auch schwierige Situationen souverän zu meistern. Sie sparen Zeit und Mühe im Alltag\, da man weiß\, wie es geht. Sie können aber auch lästig werden und schwierig\, wenn sich Rahmenbedingungen ändern und sie einfach nicht mehr passen. Manchmal ist es auch ein Problem zwischen den Generationen. Was sind für Sie hilfreiche oder auch lästige Rituale? \n  \nMit Hildegard van de Braak \nKosten: 6\,00 Euro / erm. 4\,00 Euro \nAnmeldung erforderlich unter \nTel.: +49 241 432-4998 / Fax: +49 241 432-4989 \nmuseumsdienst@mail.aachen.de
URL:https://izm.de/event/rituale/
LOCATION:IZM\, Pontstraße 13\, Aachen\, 52062
CATEGORIES:Erzählcafé
ATTACH;FMTTYPE=image/jpeg:https://izm.de/wp-content/uploads/2013/09/IZM-Fassade-Eingang-2_web1.jpg
END:VEVENT
END:VCALENDAR