BEGIN:VCALENDAR
VERSION:2.0
PRODID:-//IZM - ECPv6.15.17.1//NONSGML v1.0//EN
CALSCALE:GREGORIAN
METHOD:PUBLISH
X-ORIGINAL-URL:https://izm.de
X-WR-CALDESC:Veranstaltungen für IZM
REFRESH-INTERVAL;VALUE=DURATION:PT1H
X-Robots-Tag:noindex
X-PUBLISHED-TTL:PT1H
BEGIN:VTIMEZONE
TZID:Europe/Berlin
BEGIN:DAYLIGHT
TZOFFSETFROM:+0100
TZOFFSETTO:+0200
TZNAME:CEST
DTSTART:20220327T010000
END:DAYLIGHT
BEGIN:STANDARD
TZOFFSETFROM:+0200
TZOFFSETTO:+0100
TZNAME:CET
DTSTART:20221030T010000
END:STANDARD
BEGIN:DAYLIGHT
TZOFFSETFROM:+0100
TZOFFSETTO:+0200
TZNAME:CEST
DTSTART:20230326T010000
END:DAYLIGHT
BEGIN:STANDARD
TZOFFSETFROM:+0200
TZOFFSETTO:+0100
TZNAME:CET
DTSTART:20231029T010000
END:STANDARD
BEGIN:DAYLIGHT
TZOFFSETFROM:+0100
TZOFFSETTO:+0200
TZNAME:CEST
DTSTART:20240331T010000
END:DAYLIGHT
BEGIN:STANDARD
TZOFFSETFROM:+0200
TZOFFSETTO:+0100
TZNAME:CET
DTSTART:20241027T010000
END:STANDARD
END:VTIMEZONE
BEGIN:VEVENT
DTSTART;TZID=Europe/Berlin:20230908T103000
DTEND;TZID=Europe/Berlin:20230908T123000
DTSTAMP:20260423T124404
CREATED:20230804T091116Z
LAST-MODIFIED:20230804T091116Z
UID:10002292-1694169000-1694176200@izm.de
SUMMARY:Erzählcafé für Senioren: Die schönsten Komplimente
DESCRIPTION:Ob man jemandem ein Kompliment machen will oder eins annimmt\, beides ist nicht einfach. Manchmal ist etwas schnell\, manchmal sehr allgemein gesagt. Manchmal „zehrt“ man lange davon. Manchmal geht es auch einfach daneben. Haben Sie schon einmal Komplimente bekommen\, die Sie wirklich erfreut haben? Oder auch Komplimente\, bei denen Sie sich gefragt haben\, was wohl gemeint war? \nMit Hildegard van de Braak\nKosten: 6\,00 Euro / erm. 4\,00 Euro \nInformation und Anmeldung:\nMuseumsdienst Aachen\nMail: museumsdienst@mail.aachen.de\nServicezeiten: Di\, Do und Fr 9.00 – 14.00 Uhr\, Mi 9.00 – 12.00 Uhr und 14.00 –17.00 Uhr\nTel.: +49 241 432-4998\, Fax: +49241 432-4989 oder per Mail an museumsdienst@mail.aachen.de
URL:https://izm.de/event/erzaehlcafe-fuer-senioren-die-schoensten-komplimente/
LOCATION:IZM\, Pontstraße 13\, Aachen\, 52062
CATEGORIES:Erzählcafé
ATTACH;FMTTYPE=image/jpeg:https://izm.de/wp-content/uploads/2018/09/PH1_0725_best.jpg
END:VEVENT
END:VCALENDAR