BEGIN:VCALENDAR
VERSION:2.0
PRODID:-//IZM - ECPv6.15.17.1//NONSGML v1.0//EN
CALSCALE:GREGORIAN
METHOD:PUBLISH
X-ORIGINAL-URL:https://izm.de
X-WR-CALDESC:Veranstaltungen für IZM
REFRESH-INTERVAL;VALUE=DURATION:PT1H
X-Robots-Tag:noindex
X-PUBLISHED-TTL:PT1H
BEGIN:VTIMEZONE
TZID:Europe/Berlin
BEGIN:DAYLIGHT
TZOFFSETFROM:+0100
TZOFFSETTO:+0200
TZNAME:CEST
DTSTART:20140330T010000
END:DAYLIGHT
BEGIN:STANDARD
TZOFFSETFROM:+0200
TZOFFSETTO:+0100
TZNAME:CET
DTSTART:20141026T010000
END:STANDARD
BEGIN:DAYLIGHT
TZOFFSETFROM:+0100
TZOFFSETTO:+0200
TZNAME:CEST
DTSTART:20150329T010000
END:DAYLIGHT
BEGIN:STANDARD
TZOFFSETFROM:+0200
TZOFFSETTO:+0100
TZNAME:CET
DTSTART:20151025T010000
END:STANDARD
BEGIN:DAYLIGHT
TZOFFSETFROM:+0100
TZOFFSETTO:+0200
TZNAME:CEST
DTSTART:20160327T010000
END:DAYLIGHT
BEGIN:STANDARD
TZOFFSETFROM:+0200
TZOFFSETTO:+0100
TZNAME:CET
DTSTART:20161030T010000
END:STANDARD
END:VTIMEZONE
BEGIN:VEVENT
DTSTART;TZID=Europe/Berlin:20150306T103000
DTEND;TZID=Europe/Berlin:20150306T123000
DTSTAMP:20260421T120653
CREATED:20150114T091803Z
LAST-MODIFIED:20150114T104413Z
UID:10001849-1425637800-1425645000@izm.de
SUMMARY:Die jungen Alten heute
DESCRIPTION:Gestiegene Lebenserwartung verändert die Lebensperspektive. Das Erreichen des Rentenalters bedeutet nicht mehr das baldige Ende des Lebens\, sondern ist ein zu einem neuen Lebensabschnitt geworden\, in dem man noch vieles erleben kann. Schulklassenjubiläen z.B. zeigen dies auf Fotos deutlich. Betrachtet man Fotos von Klassenjubiläen in den 1960er Jahren\, so sieht man schwarzgekleidete Menschen. Heute sehen Fotos von Klassentreffen der heute 60jährigen bunt und lebendig aus. Da noch vor 40 Jahren nur wenig hochaltrige Menschen lebten\, gibt es wenige Vorbilder zum Altwerden und Altsein. Erfindet sich heute eine junge alte Generation neu\, orientiert an den Jungen – die jungen Alten? Unterstützen Medien diese Bilder? Was vermittelt Werbung über das Alter? \nLeitung: Hildegard van de Braak\nKosten: 6 € / erm. 4 € \nAnmeldung:\nTel.: 0241 – 435 4998\nMail: martina.tolnai@mail.aachen.de / izm@mail.aachen.de
URL:https://izm.de/event/die-jungen-alten-heute/
CATEGORIES:Veranstaltungen
ATTACH;FMTTYPE=image/jpeg:https://izm.de/wp-content/uploads/2013/09/DSCF4009.jpg
END:VEVENT
BEGIN:VEVENT
DTSTART;TZID=Europe/Berlin:20150308T140000
DTEND;TZID=Europe/Berlin:20150308T150000
DTSTAMP:20260421T120653
CREATED:20150129T132721Z
LAST-MODIFIED:20150129T132805Z
UID:10001857-1425823200-1425826800@izm.de
SUMMARY:Streifzüge durch die internationale Zeitungsgeschichte
DESCRIPTION:
URL:https://izm.de/event/streifzuge-durch-die-internationale-zeitungsgeschichte/
CATEGORIES:Führungen
END:VEVENT
BEGIN:VEVENT
DTSTART;TZID=Europe/Berlin:20150312T150000
DTEND;TZID=Europe/Berlin:20150312T160000
DTSTAMP:20260421T120653
CREATED:20150129T134133Z
LAST-MODIFIED:20150129T134205Z
UID:10001531-1426172400-1426176000@izm.de
SUMMARY:Der Sammler Oskar von Forckenbeck
DESCRIPTION:
URL:https://izm.de/event/der-sammler-oskar-von-forckenbeck-3/
CATEGORIES:Führungen
ATTACH;FMTTYPE=image/jpeg:https://izm.de/wp-content/uploads/2011/05/museum_der_gruender.jpg
END:VEVENT
BEGIN:VEVENT
DTSTART;TZID=Europe/Berlin:20150315T140000
DTEND;TZID=Europe/Berlin:20150315T150000
DTSTAMP:20260421T120653
CREATED:20150129T133540Z
LAST-MODIFIED:20150129T133540Z
UID:10001528-1426428000-1426431600@izm.de
SUMMARY:Pressefreiheit und Zensur
DESCRIPTION:
URL:https://izm.de/event/pressefreiheit-und-zensur/
CATEGORIES:Führungen
END:VEVENT
BEGIN:VEVENT
DTSTART;TZID=Europe/Berlin:20150322T140000
DTEND;TZID=Europe/Berlin:20150322T150000
DTSTAMP:20260421T120653
CREATED:20150129T133743Z
LAST-MODIFIED:20150129T133743Z
UID:10001529-1427032800-1427036400@izm.de
SUMMARY:Medien für die Massen
DESCRIPTION:
URL:https://izm.de/event/medien-fur-die-massen/
CATEGORIES:Führungen
END:VEVENT
BEGIN:VEVENT
DTSTART;TZID=Europe/Berlin:20150329T140000
DTEND;TZID=Europe/Berlin:20150329T150000
DTSTAMP:20260421T120653
CREATED:20150129T133856Z
LAST-MODIFIED:20150129T133856Z
UID:10001530-1427637600-1427641200@izm.de
SUMMARY:Bilder die Lügen
DESCRIPTION:
URL:https://izm.de/event/bilder-die-lugen-5/
CATEGORIES:Führungen
END:VEVENT
END:VCALENDAR