BEGIN:VCALENDAR
VERSION:2.0
PRODID:-//IZM - ECPv6.15.17.1//NONSGML v1.0//EN
CALSCALE:GREGORIAN
METHOD:PUBLISH
X-WR-CALNAME:IZM
X-ORIGINAL-URL:https://izm.de
X-WR-CALDESC:Veranstaltungen für IZM
REFRESH-INTERVAL;VALUE=DURATION:PT1H
X-Robots-Tag:noindex
X-PUBLISHED-TTL:PT1H
BEGIN:VTIMEZONE
TZID:Europe/Berlin
BEGIN:DAYLIGHT
TZOFFSETFROM:+0100
TZOFFSETTO:+0200
TZNAME:CEST
DTSTART:20130331T010000
END:DAYLIGHT
BEGIN:STANDARD
TZOFFSETFROM:+0200
TZOFFSETTO:+0100
TZNAME:CET
DTSTART:20131027T010000
END:STANDARD
BEGIN:DAYLIGHT
TZOFFSETFROM:+0100
TZOFFSETTO:+0200
TZNAME:CEST
DTSTART:20140330T010000
END:DAYLIGHT
BEGIN:STANDARD
TZOFFSETFROM:+0200
TZOFFSETTO:+0100
TZNAME:CET
DTSTART:20141026T010000
END:STANDARD
BEGIN:DAYLIGHT
TZOFFSETFROM:+0100
TZOFFSETTO:+0200
TZNAME:CEST
DTSTART:20150329T010000
END:DAYLIGHT
BEGIN:STANDARD
TZOFFSETFROM:+0200
TZOFFSETTO:+0100
TZNAME:CET
DTSTART:20151025T010000
END:STANDARD
BEGIN:DAYLIGHT
TZOFFSETFROM:+0100
TZOFFSETTO:+0200
TZNAME:CEST
DTSTART:20160327T010000
END:DAYLIGHT
BEGIN:STANDARD
TZOFFSETFROM:+0200
TZOFFSETTO:+0100
TZNAME:CET
DTSTART:20161030T010000
END:STANDARD
END:VTIMEZONE
BEGIN:VEVENT
DTSTART;VALUE=DATE:20140524
DTEND;VALUE=DATE:20150202
DTSTAMP:20260422T012517
CREATED:20140207T122620Z
LAST-MODIFIED:20150109T095710Z
UID:10001818-1400889600-1422835199@izm.de
SUMMARY:Der erste Weltkrieg – Ausbruch und Auftakt
DESCRIPTION:Zweite Teil des Projektes zum Gedenkjahr 2014.\nNeben einer Schilderung zu den Ursachen\, widmet sich die Ausstellung vor allem dem Auftakt des Krieges. Auf dem Weg nach Frankreich marschieren deutsche Truppen in das neutrale Belgien ein und verüben dort grausame Verbrechen. Nach einigen Wochen erstarrt die Front zu einem vierjährigen Stellungskrieg. Das IZM zeigt zahlreiche zeitgenössische Zeitungen\, Fotos und Berichte über den Beginn und den Kriegsverlauf in den ersten Wochen. \nDiese Ausstellung ist Teil des Rahmenprogrammes zur Karlspreisverleihung
URL:https://izm.de/event/der-erste-weltkrieg-ausbruch-und-auftakt-2/
CATEGORIES:Ausstellung
ATTACH;FMTTYPE=image/jpeg:https://izm.de/wp-content/uploads/2014/02/1_Weltkrieg_48.jpg
END:VEVENT
BEGIN:VEVENT
DTSTART;TZID=Europe/Berlin:20140704T101500
DTEND;TZID=Europe/Berlin:20140704T121500
DTSTAMP:20260422T012517
CREATED:20140211T090822Z
LAST-MODIFIED:20150812T093159Z
UID:10001826-1404468900-1404476100@izm.de
SUMMARY:Erzählcafé “Geschichten vom Unterwegs-Sein”
DESCRIPTION:Das Leben wird oft als Weg beschrieben\, der Lebensweg. Dieser lange Weg setzt sich aus vielen kleinen Wegen zusammen\, die wir täglich\, wöchentlich oder auch jährlich gehen. Manche Wege sind beschwerlich\, andere erfreuen uns. An einige Wege erinnern wir uns als außergewöhnlich\, andere sind alltäglich und kaum der Rede wert. \nIm Jahr 2014 wird in Aachen viel von großen und langen Wegen die Rede sein. Einer davon ist die alle sieben Jahre stattfindende Heiligtumsfahrt. In unserem Erzählcafé wollen wir nachlesen\, wie in Zeitungen davon berichtet wurde\, und erzählen\, wie wir selbst Wege gegangen sind und erlebt haben. Was bedeuten Prozessionen\, was sind Heiligtümer? Aber auch gewöhnliche Weggeschichten\, von denen eher seltener in Zeitungen berichtet wird\, sollen erzählt werden: Geschichten vom Kofferpacken in der Evakuierung\, von Urlauben oder Umzügen. \nLeitung: Hildegard van de Braak \nOrt der Veranstaltung: Bibliothek des IZM \nKosten: 6 Euro
URL:https://izm.de/event/erzahlcafe-geschichten-vom-unterwegs-sein-9/
CATEGORIES:Veranstaltungen
ATTACH;FMTTYPE=image/jpeg:https://izm.de/wp-content/uploads/2013/09/DSCF4009.jpg
END:VEVENT
BEGIN:VEVENT
DTSTART;TZID=Europe/Berlin:20140705T100000
DTEND;TZID=Europe/Berlin:20140705T160000
DTSTAMP:20260422T012517
CREATED:20140630T090359Z
LAST-MODIFIED:20140701T075850Z
UID:10001831-1404554400-1404576000@izm.de
SUMMARY:Auf Karls Spuren - Fotoworkshop
DESCRIPTION:Nach einer Führung durch die Ausstellung ORTE DER MACHT geht es – ausgestattet mit Informationen zur Reportage-Fotografie und Tipps zur richtigen Kamera-Einstellung – an die praktische Übung. Eine eigene Foto-Reportage auf den Spuren Karls des Großen\, die in einer anschließenden Bildbesprechung vorgestellt wird. Der Work­shop findet auch bei schlechtem Wetter statt. \nLeitung: Belinda Petri (Kunsthistorikerin) | Pascalina Vretinari (Freie Fotodesignerin) 6-stündiger Workshop für Anfänger\, \nAnmeldung unbedingt erforderlich: Martina.Tolnai@mail.aachen.de 0241/432-4998
URL:https://izm.de/event/auf-karls-spuren-fotoworkshop/
CATEGORIES:Workshops
ATTACH;FMTTYPE=image/jpeg:https://izm.de/wp-content/uploads/2014/07/Fotoworkshop.jpg
END:VEVENT
BEGIN:VEVENT
DTSTART;TZID=Europe/Berlin:20140710T150000
DTEND;TZID=Europe/Berlin:20140710T160000
DTSTAMP:20260422T012517
CREATED:20140211T084650Z
LAST-MODIFIED:20140305T154027Z
UID:10001823-1405004400-1405008000@izm.de
SUMMARY:Führung “Der erste Weltkrieg – Ausbruch und Auftakt”
DESCRIPTION:Kosten: Museumseintritt / Führung kostenlos
URL:https://izm.de/event/fuhrung-der-erste-weltkrieg-ausbruch-und-auftakt-2/
CATEGORIES:Führungen
ATTACH;FMTTYPE=image/jpeg:https://izm.de/wp-content/uploads/2014/02/1_Weltkrieg_48.jpg
END:VEVENT
BEGIN:VEVENT
DTSTART;TZID=Europe/Berlin:20140727T160000
DTEND;TZID=Europe/Berlin:20140727T170000
DTSTAMP:20260422T012517
CREATED:20140716T051511Z
LAST-MODIFIED:20140716T051635Z
UID:10001522-1406476800-1406480400@izm.de
SUMMARY:Führung “Der erste Weltkrieg – Ausbruch und Auftakt”
DESCRIPTION:
URL:https://izm.de/event/fuhrung-der-erste-weltkrieg-ausbruch-und-auftakt-7/
CATEGORIES:Führungen
ATTACH;FMTTYPE=image/jpeg:https://izm.de/wp-content/uploads/2014/02/1_Weltkrieg_48.jpg
END:VEVENT
END:VCALENDAR