BEGIN:VCALENDAR
VERSION:2.0
PRODID:-//IZM - ECPv6.15.17.1//NONSGML v1.0//EN
CALSCALE:GREGORIAN
METHOD:PUBLISH
X-WR-CALNAME:IZM
X-ORIGINAL-URL:https://izm.de
X-WR-CALDESC:Veranstaltungen für IZM
REFRESH-INTERVAL;VALUE=DURATION:PT1H
X-Robots-Tag:noindex
X-PUBLISHED-TTL:PT1H
BEGIN:VTIMEZONE
TZID:Europe/Berlin
BEGIN:DAYLIGHT
TZOFFSETFROM:+0100
TZOFFSETTO:+0200
TZNAME:CEST
DTSTART:20120325T010000
END:DAYLIGHT
BEGIN:STANDARD
TZOFFSETFROM:+0200
TZOFFSETTO:+0100
TZNAME:CET
DTSTART:20121028T010000
END:STANDARD
BEGIN:DAYLIGHT
TZOFFSETFROM:+0100
TZOFFSETTO:+0200
TZNAME:CEST
DTSTART:20130331T010000
END:DAYLIGHT
BEGIN:STANDARD
TZOFFSETFROM:+0200
TZOFFSETTO:+0100
TZNAME:CET
DTSTART:20131027T010000
END:STANDARD
BEGIN:DAYLIGHT
TZOFFSETFROM:+0100
TZOFFSETTO:+0200
TZNAME:CEST
DTSTART:20140330T010000
END:DAYLIGHT
BEGIN:STANDARD
TZOFFSETFROM:+0200
TZOFFSETTO:+0100
TZNAME:CET
DTSTART:20141026T010000
END:STANDARD
BEGIN:DAYLIGHT
TZOFFSETFROM:+0100
TZOFFSETTO:+0200
TZNAME:CEST
DTSTART:20150329T010000
END:DAYLIGHT
BEGIN:STANDARD
TZOFFSETFROM:+0200
TZOFFSETTO:+0100
TZNAME:CET
DTSTART:20151025T010000
END:STANDARD
END:VTIMEZONE
BEGIN:VEVENT
DTSTART;VALUE=DATE:20131122
DTEND;VALUE=DATE:20140426
DTSTAMP:20260422T073553
CREATED:20130923T161057Z
LAST-MODIFIED:20140206T101334Z
UID:10001643-1385078400-1398470399@izm.de
SUMMARY:„Niemand hat die Absicht einen Krieg zu beginnen“
DESCRIPTION:Unter dem Titel „Niemand hat die Absicht einen Krieg zu beginnen“ widmet sich das IZM der Vorgeschichte des Ersten Weltkrieges. Es wird dargestellt\, wie die Menschen in Aachen und ihre Nachbarn zwischen Frieden\, Annäherung aber auch sich steigerndem Nationalismus am Vorabend der „Urkatastrophe des 20. Jahrhunderts“ gelebt haben. \nZeitungen aus den Beständen des Internationalen Zeitungsmuseums illustrieren die Nachbarschaft und den Grenzverkehr der heutigen Euregio.  Zahlreiche Fotos und Postkarten runden das Bild ab. \n  \nFoto: Stadtarchiv Aachen \n 
URL:https://izm.de/event/niemand-hat-die-absicht-einen-krieg-zu-beginnen/
CATEGORIES:Ausstellung
ATTACH;FMTTYPE=image/jpeg:https://izm.de/wp-content/uploads/2013/10/Fotos_1630.jpg
END:VEVENT
BEGIN:VEVENT
DTSTART;TZID=Europe/Berlin:20140405T160000
DTEND;TZID=Europe/Berlin:20140405T170000
DTSTAMP:20260422T073553
CREATED:20140212T071030Z
LAST-MODIFIED:20140226T104851Z
UID:10001514-1396713600-1396717200@izm.de
SUMMARY:Führung “Niemand hat die Absicht\, einen Krieg zu beginnen”
DESCRIPTION:
URL:https://izm.de/event/fuhrung-niemand-hat-die-absicht-einen-krieg-zu-beginnen-5/
CATEGORIES:Führungen
ATTACH;FMTTYPE=image/jpeg:https://izm.de/wp-content/uploads/2013/10/Fotos_1630.jpg
END:VEVENT
BEGIN:VEVENT
DTSTART;TZID=Europe/Berlin:20140410T150000
DTEND;TZID=Europe/Berlin:20140410T160000
DTSTAMP:20260422T073553
CREATED:20140207T123333Z
LAST-MODIFIED:20140305T153924Z
UID:10001819-1397142000-1397145600@izm.de
SUMMARY:Führung “Niemand hat die Absicht einen Krieg zu beginnen”
DESCRIPTION:Kosten Museumseintritt / Führung kostenlos
URL:https://izm.de/event/fuhrung-niemand-hat-die-absicht-einen-krieg-zu-beginnen/
CATEGORIES:Führungen
ATTACH;FMTTYPE=image/jpeg:https://izm.de/wp-content/uploads/2013/10/Fotos_1630.jpg
END:VEVENT
BEGIN:VEVENT
DTSTART;TZID=Europe/Berlin:20140411T101500
DTEND;TZID=Europe/Berlin:20140411T101500
DTSTAMP:20260422T073553
CREATED:20140207T121611Z
LAST-MODIFIED:20140226T104818Z
UID:10001506-1397211300-1397211300@izm.de
SUMMARY:Erzählcafé “Geschichten vom Unterwegs-Sein”
DESCRIPTION:Das Leben wird oft als Weg beschrieben\, der Lebensweg. Dieser lange Weg setzt sich aus vielen kleinen Wegen zusammen\, die wir täglich\, wöchentlich oder auch jährlich gehen. Manche Wege sind beschwerlich\, andere erfreuen uns. An einige Wege erinnern wir uns als außergewöhnlich\, andere sind alltäglich und kaum der Rede wert. \nIm Jahr 2014 wird in Aachen viel von großen und langen Wegen die Rede sein. Einer davon ist die alle sieben Jahre stattfindende Heiligtumsfahrt. In unserem Erzählcafé wollen wir nachlesen\, wie in Zeitungen davon berichtet wurde\, und erzählen\, wie wir selbst Wege gegangen sind und erlebt haben. Was bedeuten Prozessionen\, was sind Heiligtümer? Aber auch gewöhnliche Weggeschichten\, von denen eher seltener in Zeitungen berichtet wird\, sollen erzählt werden: Geschichten vom Kofferpacken in der Evakuierung\, von Urlauben oder Umzügen. \nLeitung: Hildegard van de Braak \nOrt der Veranstaltung: Bibliothek des IZM \nKosten: 6 Euro
URL:https://izm.de/event/erzahlcafe-geschichten-vom-unterwegs-sein-6/
CATEGORIES:Veranstaltungen
ATTACH;FMTTYPE=image/jpeg:https://izm.de/wp-content/uploads/2013/09/DSCF4009.jpg
END:VEVENT
BEGIN:VEVENT
DTSTART;TZID=Europe/Berlin:20140412T100000
DTEND;TZID=Europe/Berlin:20140412T160000
DTSTAMP:20260422T073553
CREATED:20140207T094630Z
LAST-MODIFIED:20140326T130728Z
UID:10001503-1397296800-1397318400@izm.de
SUMMARY:Reportage-Fotografie
DESCRIPTION:Wie erzählt man mit wenigen Bildern eine ganze Geschichte? Der Workshop beginnt mit einer Kurzführung durch das IZM und Beispielen zur Reportagefotografie. Im „Technik- und Theorie-Block“ geben die Dozentinnen Tipps zur digitalen Technik\, dem sicheren Umgang mit der Kamera und zur Bildgestaltung. Dann folgt die praktische Übung: Eine eigene Fotoreportage\, die in einer anschließenden Bildanalyse besprochen wird.\nDer Kurs findet auch bei schlechtem Wetter statt\, bitte eigene Digitalkamera (Akku und Speicherkarte) mitbringen. \nLeitung: Pasca Vretinari\, Freie Fotodesignerin / Belinda Petri\, Kunsthistorikerin  \nKosten: 40 € / erm. 25 € \nAnmeldung erforderlich
URL:https://izm.de/event/reportage-fotografie-6/
CATEGORIES:Workshops
ATTACH;FMTTYPE=image/jpeg:https://izm.de/wp-content/uploads/2014/02/Reportage.jpg
END:VEVENT
BEGIN:VEVENT
DTSTART;VALUE=DATE:20140414
DTEND;VALUE=DATE:20140418
DTSTAMP:20260422T073553
CREATED:20140211T082947Z
LAST-MODIFIED:20140226T104802Z
UID:10001821-1397433600-1397779199@izm.de
SUMMARY:Karl im Ohr - eine Zeitreise
DESCRIPTION:Wer war eigentlich Karl der Große\, von dem in Aachen so oft gesprochen wird? Was hat er gemacht\, dass man heute – 1200 Jahre nach seinem Tod – noch Geschichten über ihn erzählt? Mit Mikrofon und Aufnahmegerät ausgerüstet\, begeben wir uns auf eine Zeitreise in das Jahr 800. Wir gehen in der Stadt auf Spurensuche und besuchen Orte\, die Karl der Große kannte. Wir sammeln Geräusche und Gespräche und machen eine eigene Geschichte daraus. Wir könnten Karl treffen und ein Interview mit ihm führen. Oder er könnte mit uns in die Gegenwart reisen und Aachen heute erleben….  Unsere Ideen fügen wir zu einem Hörspiel zusammen. Alles wird selbst gemacht: entwickeln gemeinsam die Geschichte\, sprechen Texte und Dialoge mit verteilten Rollen ein und fügen Musik und Geräusche hinzu.  \nLeitung: Karo Schröder / Sofie Malich  \n4-tägiger Workshop für Kinder ab 8 Jahren\nMontag\, 14. April – Do\, 17. April 2014 / jeweils  von 10 –  14 Uhr \nAnmeldung erforderlich
URL:https://izm.de/event/karl-im-ohr-eine-zeitreise/
CATEGORIES:Workshops
ATTACH;FMTTYPE=image/jpeg:https://izm.de/wp-content/uploads/2014/02/Charlemagne_et_Louis_le_Pieux.jpg
END:VEVENT
BEGIN:VEVENT
DTSTART;TZID=Europe/Berlin:20140419T160000
DTEND;TZID=Europe/Berlin:20140419T170000
DTSTAMP:20260422T073553
CREATED:20140212T071024Z
LAST-MODIFIED:20140226T104756Z
UID:10001513-1397923200-1397926800@izm.de
SUMMARY:Führung “Niemand hat die Absicht\, einen Krieg zu beginnen”
DESCRIPTION:
URL:https://izm.de/event/fuhrung-niemand-hat-die-absicht-einen-krieg-zu-beginnen-4/
CATEGORIES:Führungen
ATTACH;FMTTYPE=image/jpeg:https://izm.de/wp-content/uploads/2013/10/Fotos_1630.jpg
END:VEVENT
BEGIN:VEVENT
DTSTART;TZID=Europe/Berlin:20140426T100000
DTEND;TZID=Europe/Berlin:20140426T140000
DTSTAMP:20260422T073553
CREATED:20140207T114441Z
LAST-MODIFIED:20140226T104729Z
UID:10001504-1398506400-1398520800@izm.de
SUMMARY:Young Street - Vom Pressefoto zur Street Art
DESCRIPTION:Was ist ein gutes Foto? Wie kann ich mit wenigen Bildern eine Geschichte erzählen? Der Workshop beginnt mit einer kurzen Führung durch das IZM und Beispielen zur Reportagefotografie. Ausgerüstet mit Tipps zum sicheren Umgang mit der eigenen Kamera und gestalterischen Elementen geht es dann raus auf die Straße\, denn interessante Motive finden sich an jeder Ecke. Abschließend wird die „Beute“ analysiert. Bitte eigene Digitalkamera\, Akku und Speicherkarte mitbringen!\nDer Kurs findet auch bei schlechtem Wetter statt. \nKosten: 20 € / erm. 15 € \nAnmeldung erforderlich
URL:https://izm.de/event/young-street-vom-pressefoto-zur-street-art/
CATEGORIES:Workshops
ATTACH;FMTTYPE=image/jpeg:https://izm.de/wp-content/uploads/2014/02/Ein-Herz-für-Streetart_web.jpg
END:VEVENT
BEGIN:VEVENT
DTSTART;TZID=Europe/Berlin:20140426T120000
DTEND;TZID=Europe/Berlin:20140426T140000
DTSTAMP:20260422T073553
CREATED:20140416T121933Z
LAST-MODIFIED:20140416T125404Z
UID:10001828-1398513600-1398520800@izm.de
SUMMARY:Gedichte zu Kaiser Karl
DESCRIPTION:Es lesen Dieter Hans und Manfred Freude. \nDie Lesung findet in Kooperation der Silbenschmiede mit dem Internationalen Zeitungsmuseum der Stadt Aachen statt. \n Keine Anmeldung erforderlich\nEintritt frei
URL:https://izm.de/event/gedichte-zu-kaiser-karl-karl-der-grose/
CATEGORIES:Lesung,Veranstaltungen
ATTACH;FMTTYPE=image/jpeg:https://izm.de/wp-content/uploads/2011/09/lesung_small.jpg
END:VEVENT
END:VCALENDAR