BEGIN:VCALENDAR
VERSION:2.0
PRODID:-//IZM - ECPv6.15.17.1//NONSGML v1.0//EN
CALSCALE:GREGORIAN
METHOD:PUBLISH
X-WR-CALNAME:IZM
X-ORIGINAL-URL:https://izm.de
X-WR-CALDESC:Veranstaltungen für IZM
REFRESH-INTERVAL;VALUE=DURATION:PT1H
X-Robots-Tag:noindex
X-PUBLISHED-TTL:PT1H
BEGIN:VTIMEZONE
TZID:Europe/Berlin
BEGIN:DAYLIGHT
TZOFFSETFROM:+0100
TZOFFSETTO:+0200
TZNAME:CEST
DTSTART:20120325T010000
END:DAYLIGHT
BEGIN:STANDARD
TZOFFSETFROM:+0200
TZOFFSETTO:+0100
TZNAME:CET
DTSTART:20121028T010000
END:STANDARD
BEGIN:DAYLIGHT
TZOFFSETFROM:+0100
TZOFFSETTO:+0200
TZNAME:CEST
DTSTART:20130331T010000
END:DAYLIGHT
BEGIN:STANDARD
TZOFFSETFROM:+0200
TZOFFSETTO:+0100
TZNAME:CET
DTSTART:20131027T010000
END:STANDARD
BEGIN:DAYLIGHT
TZOFFSETFROM:+0100
TZOFFSETTO:+0200
TZNAME:CEST
DTSTART:20140330T010000
END:DAYLIGHT
BEGIN:STANDARD
TZOFFSETFROM:+0200
TZOFFSETTO:+0100
TZNAME:CET
DTSTART:20141026T010000
END:STANDARD
END:VTIMEZONE
BEGIN:VEVENT
DTSTART;VALUE=DATE:20130706
DTEND;VALUE=DATE:20131007
DTSTAMP:20260422T152847
CREATED:20130620T101120Z
LAST-MODIFIED:20130620T101120Z
UID:10001374-1373068800-1381103999@izm.de
SUMMARY:Robert Capa "Israel"
DESCRIPTION:Der weltberühmte Kriegsfotograf Robert Capa (1913 – 1954) hat 1948 die Gründung des Staates Israel eindrucksvoll fotografisch begleitet. Das Internationale Zeitungsmuseum stellt eine Auswahl dieser Werke anlässlich des Einhundertsten Geburtstages von Capa vor. \nAls ungarischer Jude – sein richtiger Name lautet Endre Ernő Friedmann – befasste sich Robert Capa intensiv mit dem Schicksal der verfolgten Juden nach dem Zweiten Weltkrieg und dem Versuch einer jüdischen Staatsgründung in Israel. Zwischen 1948 und 1950 bereiste Capa das Land drei Mal. Auf der ersten Reise berichtete er über die Unabhängigkeitserklärung und die darauf folgenden Kämpfe die er als Augenzeuge der Weltöffentlichkeit übermittelte. Bei den weiteren Besuchen dokumentierte er durchaus empathisch die Flüchtlingsproblematik und die ersten Projekte des noch jungen Staates. Ausgestattet mit zwei verschiedenen Kameras\, einer Rolleiflex und einer Leica\, filmte er sowohl Kampfhandlungen als auch Alltagsszenen wie die Urbarmachung des Landes\, die Ankunft von Flüchtlingen und die Errichtung von Infrastruktur. \nFast alle Werke Capas gelten als Ikonen der Bildberichterstattung und sind einflussreiche Zeugnisse der Mediengeschichte. \nDas IZM zeigt 46 Werke des Gründungsmitgliedes der weltberühmten Foto-Agentur Magnum.
URL:https://izm.de/event/robert-capa-israel/
CATEGORIES:Ausstellung
ATTACH;FMTTYPE=image/jpeg:https://izm.de/wp-content/uploads/2013/06/PAR799921.jpg
END:VEVENT
BEGIN:VEVENT
DTSTART;TZID=Europe/Berlin:20131004T103000
DTEND;TZID=Europe/Berlin:20131004T123000
DTSTAMP:20260422T152847
CREATED:20130922T184509Z
LAST-MODIFIED:20130922T184509Z
UID:10001636-1380882600-1380889800@izm.de
SUMMARY:Erzählcafé: "Geschichten vom Schmuggel und Schwarzmarkt"
DESCRIPTION:Freitag\, 04.10.2013 \n10.30-12.30 Uhr \nErzählcafé: „Zwischen den Zeilen – Geschichten vom Schmuggel und Schwarzmarkt“ \n  \nVom Schmuggel und vom Handel auf dem Schwarzmarkt lebten in den Nachkriegsjahren viele Menschen. Eigentlich sind beides Straftaten und doch waren sie zum Überleben notwendig. \nImmer wieder berichteten die Zeitungen von geschnappten Schmugglern\, von beschlagnahmten Waren und von bewaffneten Auseinandersetzungen an der Grenze. \nWas die Menschen\, Schmuggler und Zöllner\, wirklich erlebten – ihre Ängste\, aber auch ihre Abenteuerlust – findet sich jedoch eher zwischen den Zeilen. \nDavon soll in unserem Erzählcafé in der Bibliothek des IZM die Rede sein. \n  \nLeitung: Hildegard van de Braak \nKosten: 6 € / erm. 4 € \n 
URL:https://izm.de/event/erzahlcafe-zwischen-den-zeilen-geschichten-vom-schmuggel-und-schwarzmarkt/
CATEGORIES:Veranstaltungen
ATTACH;FMTTYPE=image/jpeg:https://izm.de/wp-content/uploads/2013/09/DSCF4009.jpg
END:VEVENT
BEGIN:VEVENT
DTSTART;TZID=Europe/Berlin:20131006T160000
DTEND;TZID=Europe/Berlin:20131006T170000
DTSTAMP:20260422T152847
CREATED:20130922T183344Z
LAST-MODIFIED:20130922T183344Z
UID:10001632-1381075200-1381078800@izm.de
SUMMARY:Themenführung: Robert Capa "Israel"
DESCRIPTION:Öffentliche Themenführung zur Sonderausstellung Robert Capa „Israel“  (letzter Tag der Ausstellung!) \n  \n 
URL:https://izm.de/event/themenfuhrung-robert-capa-israel/
CATEGORIES:Führungen
ATTACH;FMTTYPE=image/jpeg:https://izm.de/wp-content/uploads/2013/06/PAR799921.jpg
END:VEVENT
BEGIN:VEVENT
DTSTART;TZID=Europe/Berlin:20131010T150000
DTEND;TZID=Europe/Berlin:20131010T160000
DTSTAMP:20260422T152847
CREATED:20130922T182953Z
LAST-MODIFIED:20130922T182953Z
UID:10001628-1381417200-1381420800@izm.de
SUMMARY:Seniorenführung
DESCRIPTION:Führung durch die Dauerausstellung des IZM
URL:https://izm.de/event/seniorenfuhrung-2/
CATEGORIES:Führungen
ATTACH;FMTTYPE=image/jpeg:https://izm.de/wp-content/uploads/2011/06/medienmuseum_01.jpg
END:VEVENT
BEGIN:VEVENT
DTSTART;TZID=Europe/Berlin:20131012T100000
DTEND;TZID=Europe/Berlin:20131012T140000
DTSTAMP:20260422T152847
CREATED:20130922T182058Z
LAST-MODIFIED:20130922T182058Z
UID:10001624-1381572000-1381586400@izm.de
SUMMARY:Papierworkshop mit Dieter Redetzky
DESCRIPTION:Samstag 12.10.2013 \n10 – 14 Uhr \n4stündiger Workshop für Erwachsene \nPapierworkshop \nZum Drucken von Zeitungen unverzichtbar und ein leicht verfügbares „Allerweltsmaterial“ – im Workshop erfahren Sie vieles über die Geschichte des Papieres und seinen Weg aus Ostasien nach Europa\, über die europäische Papiermacherei\, Gutenbergs Druck auf Papier\, über Rohstoffe\, alte und moderne Herstellungstechniken. \nSie nehmen historische Schreibpapiere\, Zeitungen\, edle Wasserzeichen -und Wertzeichenpapiere in die Hand und schöpfen Papier mit Wasserzeichen von Hand aus der Bütte. \nLeitung: Dieter Redetzky \nAnmeldung erforderlich \nKosten: nur Museumseintritt
URL:https://izm.de/event/papierworkshop/
CATEGORIES:Veranstaltungen
ATTACH;FMTTYPE=image/jpeg:https://izm.de/wp-content/uploads/2013/09/Papierworkshop-Dieter-Redetzky_web.jpg
END:VEVENT
BEGIN:VEVENT
DTSTART;TZID=Europe/Berlin:20131015T100000
DTEND;TZID=Europe/Berlin:20131015T180000
DTSTAMP:20260422T152847
CREATED:20130927T141346Z
LAST-MODIFIED:20130927T141346Z
UID:10001652-1381831200-1381860000@izm.de
SUMMARY:Aktionstag: Europeana 1914-1918
DESCRIPTION:15.10.2013 / 10 – 18 Uhr \nAktionstag: Europeana 1914-1918\n100 Jahre Erster Weltkrieg. Bilder\, Briefe\, Erinnerungen \nEuropeana 1914-1918 ist ein europaweites Projekt zur Sammlung und Veröffentlichung persönlicher Erinnerungen von Menschen aus der Zeit des ersten Weltkrieges\, das anlässlich des 100. Jubiläums 2014 ins Leben gerufen wurde. Seit 2011 veranstaltet Europeana Aktionstage\, bei denen Besucher Fotos\, Briefe\, Tonaufnahmen\, Tagebücher und andere Erinnerungsstücke aus der Zeit des ersten Weltkrieges mitbringen können. \nDie Objekte werden professionell von Mitarbeitern des Historischen Forschungsinstituts Berlin begutachtet\, digitalisiert und anschließend in die Datenbank eingepflegt. Auf der Internetplattform www.europeana1914-1918.eu sind die Digitalisate der Öffentlichkeit zur Recherche zugänglich. \nDie Aktionstage finden europaweit statt und erfreuen sich großen Zulaufs\, was das rege Interesse der Europäer an ihrer gemeinsamen Geschichte zeigt. Die Datenbank umfasst mittlerweile über 45.000 digitale Dateien. Im Oktober haben Sie die Gelegenheit\, Ihren Teil dazu beizutragen. \nWenn Sie Erinnerungsstücke aus der Zeit des Ersten Weltkrieges besitzen oder eine Geschichte zu Erzählen haben\, kommen Sie zum Aktionstag Europeana 1914-1918 am 15.10.2013 ins Internationale Zeitungsmuseum.
URL:https://izm.de/event/aktionstag-europeana-1914-1918/
CATEGORIES:Veranstaltungen
ATTACH;FMTTYPE=image/jpeg:https://izm.de/wp-content/uploads/2013/10/Postkarte-Europeana_web.jpg
END:VEVENT
BEGIN:VEVENT
DTSTART;TZID=Europe/Berlin:20131020T140000
DTEND;TZID=Europe/Berlin:20131020T150000
DTSTAMP:20260422T152847
CREATED:20131008T105218Z
LAST-MODIFIED:20131008T105218Z
UID:10001422-1382277600-1382281200@izm.de
SUMMARY:Öffentliche Führung
DESCRIPTION:
URL:https://izm.de/event/offentliche-fuhrung-3/
CATEGORIES:Führungen
ATTACH;FMTTYPE=image/jpeg:https://izm.de/wp-content/uploads/2013/09/IZM-Fassade-Eingang_web.jpg
END:VEVENT
BEGIN:VEVENT
DTSTART;TZID=Europe/Berlin:20131022T100000
DTEND;TZID=Europe/Berlin:20131023T130000
DTSTAMP:20260422T152847
CREATED:20130922T173600Z
LAST-MODIFIED:20130922T173600Z
UID:10001612-1382436000-1382533200@izm.de
SUMMARY:Herbstferienworkshop: PaperMagic - Papier schöpfen und gestalten
DESCRIPTION:Di 22.10 bis Mi 23.10.2013 \n10 – 13 Uhr \nPaperMagic – Papier schöpfen und gestalten \nWir schöpfen Papier von Hand aus der Bütte\, malen mit Papierpulpe\, experimentieren mit Farben\, Blüten und verschiedenen Materialien. \n2tägiger Ferienworkshop für Kinder im Grundschulalter \nLeitung: Julia Magr / Petra Hellwig \nAnmeldung erforderlich \nKosten: 20 € / erm. 10 €
URL:https://izm.de/event/herbstferienworkshop/
CATEGORIES:Veranstaltungen
ATTACH;FMTTYPE=image/jpeg:https://izm.de/wp-content/uploads/2013/09/Papierworkshop_web.jpg
END:VEVENT
BEGIN:VEVENT
DTSTART;TZID=Europe/Berlin:20131024T100000
DTEND;TZID=Europe/Berlin:20131025T140000
DTSTAMP:20260422T152847
CREATED:20130922T180024Z
LAST-MODIFIED:20130922T180024Z
UID:10001616-1382608800-1382709600@izm.de
SUMMARY:Herbstferienworkshop: PaperMagic - Papier schöpfen und gestalten
DESCRIPTION:D0 24.10 bis Fri 25.10.2013 \n10 – 14 Uhr \nPaperMagic – Papier schöpfen und gestalten \nWir schöpfen Papier von Hand aus der Bütte\, malen mit Papierpulpe\, experimentieren mit Farben\, Blüten und verschiedenen Materialien. \n2tägiger Ferienworkshop für Kinder ab 10 Jahren \nLeitung: Julia Magr / Petra Hellwig \nAnmeldung erforderlich \nKosten: 24 € / erm. 16 €
URL:https://izm.de/event/herbstferienworkshop-papermagic-papier-schopfen-und-gestalten/
CATEGORIES:Veranstaltungen
ATTACH;FMTTYPE=image/jpeg:https://izm.de/wp-content/uploads/2013/09/Papierworkshop_web.jpg
END:VEVENT
BEGIN:VEVENT
DTSTART;TZID=Europe/Berlin:20131026T120000
DTEND;TZID=Europe/Berlin:20131026T130000
DTSTAMP:20260422T152847
CREATED:20130927T142246Z
LAST-MODIFIED:20130927T142246Z
UID:10001658-1382788800-1382792400@izm.de
SUMMARY:Lesereihe "Silbenschmiede": Sebastian Ypps und das alltäglich Absurde
DESCRIPTION:Samstag\, 26.10.2013 / 12 Uhr \nLesereihe „Silbenschmiede“ \nSebastian Ybbs liest aus „Sebastian Ypps und das alltäglich Absurde“. \nVeranstaltungsort: Haus Löwenstein \nAnmeldung nicht erforderlich / Eintritt frei \n 
URL:https://izm.de/event/lesereihe-silbenschmiede/
CATEGORIES:Veranstaltungen
ATTACH;FMTTYPE=image/jpeg:https://izm.de/wp-content/uploads/2013/09/IZM-Setzkasten-Bleilettern_web.jpg
END:VEVENT
BEGIN:VEVENT
DTSTART;TZID=Europe/Berlin:20131027T140000
DTEND;TZID=Europe/Berlin:20131027T150000
DTSTAMP:20260422T152847
CREATED:20131008T105416Z
LAST-MODIFIED:20131008T105416Z
UID:10001704-1382882400-1382886000@izm.de
SUMMARY:Öffentliche Führung
DESCRIPTION:
URL:https://izm.de/event/offentliche-fuhrung-4/
CATEGORIES:Führungen
ATTACH;FMTTYPE=image/jpeg:https://izm.de/wp-content/uploads/2013/09/IZM-Fassade-Eingang_web.jpg
END:VEVENT
END:VCALENDAR