BEGIN:VCALENDAR
VERSION:2.0
PRODID:-//IZM - ECPv6.15.17.1//NONSGML v1.0//EN
CALSCALE:GREGORIAN
METHOD:PUBLISH
X-ORIGINAL-URL:https://izm.de
X-WR-CALDESC:Veranstaltungen für IZM
REFRESH-INTERVAL;VALUE=DURATION:PT1H
X-Robots-Tag:noindex
X-PUBLISHED-TTL:PT1H
BEGIN:VTIMEZONE
TZID:Europe/Berlin
BEGIN:DAYLIGHT
TZOFFSETFROM:+0100
TZOFFSETTO:+0200
TZNAME:CEST
DTSTART:20120325T010000
END:DAYLIGHT
BEGIN:STANDARD
TZOFFSETFROM:+0200
TZOFFSETTO:+0100
TZNAME:CET
DTSTART:20121028T010000
END:STANDARD
BEGIN:DAYLIGHT
TZOFFSETFROM:+0100
TZOFFSETTO:+0200
TZNAME:CEST
DTSTART:20130331T010000
END:DAYLIGHT
BEGIN:STANDARD
TZOFFSETFROM:+0200
TZOFFSETTO:+0100
TZNAME:CET
DTSTART:20131027T010000
END:STANDARD
BEGIN:DAYLIGHT
TZOFFSETFROM:+0100
TZOFFSETTO:+0200
TZNAME:CEST
DTSTART:20140330T010000
END:DAYLIGHT
BEGIN:STANDARD
TZOFFSETFROM:+0200
TZOFFSETTO:+0100
TZNAME:CET
DTSTART:20141026T010000
END:STANDARD
END:VTIMEZONE
BEGIN:VEVENT
DTSTART;VALUE=DATE:20130706
DTEND;VALUE=DATE:20131007
DTSTAMP:20260422T181132
CREATED:20130620T101120Z
LAST-MODIFIED:20130620T101120Z
UID:10001374-1373068800-1381103999@izm.de
SUMMARY:Robert Capa "Israel"
DESCRIPTION:Der weltberühmte Kriegsfotograf Robert Capa (1913 – 1954) hat 1948 die Gründung des Staates Israel eindrucksvoll fotografisch begleitet. Das Internationale Zeitungsmuseum stellt eine Auswahl dieser Werke anlässlich des Einhundertsten Geburtstages von Capa vor. \nAls ungarischer Jude – sein richtiger Name lautet Endre Ernő Friedmann – befasste sich Robert Capa intensiv mit dem Schicksal der verfolgten Juden nach dem Zweiten Weltkrieg und dem Versuch einer jüdischen Staatsgründung in Israel. Zwischen 1948 und 1950 bereiste Capa das Land drei Mal. Auf der ersten Reise berichtete er über die Unabhängigkeitserklärung und die darauf folgenden Kämpfe die er als Augenzeuge der Weltöffentlichkeit übermittelte. Bei den weiteren Besuchen dokumentierte er durchaus empathisch die Flüchtlingsproblematik und die ersten Projekte des noch jungen Staates. Ausgestattet mit zwei verschiedenen Kameras\, einer Rolleiflex und einer Leica\, filmte er sowohl Kampfhandlungen als auch Alltagsszenen wie die Urbarmachung des Landes\, die Ankunft von Flüchtlingen und die Errichtung von Infrastruktur. \nFast alle Werke Capas gelten als Ikonen der Bildberichterstattung und sind einflussreiche Zeugnisse der Mediengeschichte. \nDas IZM zeigt 46 Werke des Gründungsmitgliedes der weltberühmten Foto-Agentur Magnum.
URL:https://izm.de/event/robert-capa-israel/
CATEGORIES:Ausstellung
ATTACH;FMTTYPE=image/jpeg:https://izm.de/wp-content/uploads/2013/06/PAR799921.jpg
END:VEVENT
BEGIN:VEVENT
DTSTART;TZID=Europe/Berlin:20130730T140000
DTEND;TZID=Europe/Berlin:20130802T180000
DTSTAMP:20260422T181132
CREATED:20130528T094755Z
LAST-MODIFIED:20130528T094755Z
UID:10001340-1375192800-1375466400@izm.de
SUMMARY:Foto-Story
DESCRIPTION:Dienstag\, 30.7. – Freitag\, 02.08.2103 \n14 – 18 Uhr \nFoto-Story \nWir recherchieren und entwickeln Geschichten rund um das Thema „Wasser“. Unsere Ideen setzen wir mit der Foto- oder Handykamera in Bilder um und schreiben Texte dazu. Wir lernen den Umgang mit Handy- oder Digitalkamera\, beschäftigen uns mit  Bildgestaltung und bearbeiten die Fotos am PC. \n4tägiger Workshop für Kinder und Jugendliche ab 10 Jahren \nLeitung: Petra Hellwig \nAnmeldung erforderlich \nKosten:  10 € \nAuskunft und Anmeldung \nPia vom Dorp \nTel: 0241 – 432 4935 \nMail: pia.vomdorp@mail.aachen.de
URL:https://izm.de/event/foto-story/
CATEGORIES:Veranstaltungen
END:VEVENT
BEGIN:VEVENT
DTSTART;TZID=Europe/Berlin:20130806T100000
DTEND;TZID=Europe/Berlin:20130809T140000
DTSTAMP:20260422T181132
CREATED:20130528T095202Z
LAST-MODIFIED:20130528T095202Z
UID:10001574-1375783200-1376056800@izm.de
SUMMARY:Wasser-Zeitung
DESCRIPTION:Dienstag\, 06.08. – Freitag\, 09.08.2013 \n10 – 14 Uhr \nWasser-Zeitung \nDie Rasenden Reporter des Zeitungsmuseums schwärmen aus in die Stadt!  Nach eigener Recherche zum Thema Wasser erkunden unsere Umgebung\, führen Interviews mit Menschen\, die sich mit dem kostbaren Rohstoff Wasser beschäftigen und hören ihre Geschichten. Wir  schreiben eigene Berichte und fotografieren dazu. Aus unseren Beiträgen gestalten wir eine eigene „Wasser-Zeitung“. \n4tägiger Workshop für Kinder ab 8 Jahren \nLeitung: Petra Hellwig \nAnmeldung erforderlich \nKosten: 10 € \nAuskunft und Anmeldung \nPia vom Dorp \nTel: 0241 – 432 4935 \nMail: pia.vomdorp@mail.aachen.de
URL:https://izm.de/event/wasser-zeitung/
CATEGORIES:Veranstaltungen
END:VEVENT
BEGIN:VEVENT
DTSTART;TZID=Europe/Berlin:20130812T100000
DTEND;TZID=Europe/Berlin:20130816T160000
DTSTAMP:20260422T181132
CREATED:20130528T095431Z
LAST-MODIFIED:20130528T095431Z
UID:10001578-1376301600-1376668800@izm.de
SUMMARY:Wir machen Film!
DESCRIPTION:Montag\, 12.08.- Freitag\, 16.08.2013 \n10 – 16 Uhr \nWir machen Film! \nWas ist eigentlich ein Dokumentarfilm? Wir lernen Beispiele kennen und drehen selbst einen Film zum Thema „Wasser“. Wir suchen besondere Orte auf und sprechen mit Menschen\, die mit Wasser arbeiten. Wir lernen Kamera-Arbeit und Interview-Technik kennen. Das selbst gedrehte Material schneiden wir zu einem Kurzfilm\, ein Musiker hilft uns bei der Vertonung. \n5tägiger Filmworkshop für Kinder ab 8 Jahren \nLeitung: Michael Chauvistré \nAnmeldung erforderlich \nKosten:  30 € \nAuskunft und Anmeldung \nPia vom Dorp \nTel: 0241 – 432 4935 \nMail: pia.vomdorp@mail.aachen.de
URL:https://izm.de/event/wir-machen-film-2/
CATEGORIES:Veranstaltungen
ATTACH;FMTTYPE=image/jpeg:https://izm.de/wp-content/uploads/2013/05/Neues-Bild.jpg
END:VEVENT
BEGIN:VEVENT
DTSTART;TZID=Europe/Berlin:20130819T100000
DTEND;TZID=Europe/Berlin:20130823T160000
DTSTAMP:20260422T181132
CREATED:20130528T095559Z
LAST-MODIFIED:20130528T095559Z
UID:10001582-1376906400-1377273600@izm.de
SUMMARY:Wir machen Film!
DESCRIPTION:Montag\, 19.08. – Freitag\, 23.08.2013 \n10 – 16 Uhr \nWir machen Film! \nWas ist eigentlich ein Dokumentarfilm? Der Filmemacher Michael Chauvistré zeigt  Euch Beispiele und dreht mit Euch einen eigenen Film. Ihr macht Kamera- und Tonübungen\, führt Interviews und lernt professionelle Schnitt-Techniken kennen. Wieviel Liter Wasser brauchen die Aachener pro Tag? Wo kommt es her und was geschieht später damit? Ihr recherchiert und fasst die Ergebnisse in Eurem eigenen Film zusammen. \n5tägiger Filmworkshop für Kinder und Jugendliche ab 12 Jahren \nLeitung: Michael Chauvistré \nAnmeldung erforderlich \nKosten: 30 € \nAuskunft und Anmeldung \nPia vom Dorp \nTel: 0241 – 432 4935 \nMail: pia.vomdorp@mail.aachen.de
URL:https://izm.de/event/wir-machen-film-3/
CATEGORIES:Veranstaltungen
ATTACH;FMTTYPE=image/jpeg:https://izm.de/wp-content/uploads/2013/05/Neues-Bild2.jpg
END:VEVENT
BEGIN:VEVENT
DTSTART;TZID=Europe/Berlin:20130827T100000
DTEND;TZID=Europe/Berlin:20130830T100000
DTSTAMP:20260422T181132
CREATED:20130528T095808Z
LAST-MODIFIED:20130528T095808Z
UID:10001346-1377597600-1377856800@izm.de
SUMMARY:Stadtrundgang für die Ohren
DESCRIPTION:Dienstag\, 27.08. – Freitag\, 30.08.2013 \n10 – 14 Uhr \nStadtrundgang für die Ohren \nAuf den Spuren des Wasser sammeln wir Geräusche: Fliessen\, Rauschen\, Sprudeln\, Säuseln\, Plätschern\, Tropfen\, Gurgeln\, Prasseln….. Wir  lauschen Brunnen\, Bächen\, Quellen\, Gullis\, Wasserhähnen\, Wasserkochern oder WC-Spülungen\, verwandeln sie in Klangcollagen und erfinden Geräuschgeschichten. Aus unseren Tondokumenten machen wir einen Audioguide. \n4tägiger Workshop für Kinder ab 8 Jahren \nLeitung: Karo Schröder / Julian Zix \nAnmeldung erforderlich \nKosten: 10 € \nAuskunft und Anmeldung \nPia vom Dorp \nTel: 0241 – 432 4935 \nMail: pia.vomdorp@mail.aachen.de
URL:https://izm.de/event/stadtrundgang-fur-die-ohren/
CATEGORIES:Veranstaltungen
END:VEVENT
END:VCALENDAR