BEGIN:VCALENDAR
VERSION:2.0
PRODID:-//IZM - ECPv6.15.17.1//NONSGML v1.0//EN
CALSCALE:GREGORIAN
METHOD:PUBLISH
X-ORIGINAL-URL:https://izm.de
X-WR-CALDESC:Veranstaltungen für IZM
REFRESH-INTERVAL;VALUE=DURATION:PT1H
X-Robots-Tag:noindex
X-PUBLISHED-TTL:PT1H
BEGIN:VTIMEZONE
TZID:Europe/Berlin
BEGIN:DAYLIGHT
TZOFFSETFROM:+0100
TZOFFSETTO:+0200
TZNAME:CEST
DTSTART:20110327T010000
END:DAYLIGHT
BEGIN:STANDARD
TZOFFSETFROM:+0200
TZOFFSETTO:+0100
TZNAME:CET
DTSTART:20111030T010000
END:STANDARD
BEGIN:DAYLIGHT
TZOFFSETFROM:+0100
TZOFFSETTO:+0200
TZNAME:CEST
DTSTART:20120325T010000
END:DAYLIGHT
BEGIN:STANDARD
TZOFFSETFROM:+0200
TZOFFSETTO:+0100
TZNAME:CET
DTSTART:20121028T010000
END:STANDARD
BEGIN:DAYLIGHT
TZOFFSETFROM:+0100
TZOFFSETTO:+0200
TZNAME:CEST
DTSTART:20130331T010000
END:DAYLIGHT
BEGIN:STANDARD
TZOFFSETFROM:+0200
TZOFFSETTO:+0100
TZNAME:CET
DTSTART:20131027T010000
END:STANDARD
END:VTIMEZONE
BEGIN:VEVENT
DTSTART;VALUE=DATE:20120505
DTEND;VALUE=DATE:20120702
DTSTAMP:20260423T135737
CREATED:20120224T140848Z
LAST-MODIFIED:20120224T140848Z
UID:10001241-1336176000-1341187199@izm.de
SUMMARY:Polnische Individualitäten - Fotografien von Krzysztof Gieraltowski
DESCRIPTION:Was ist das Bild eines Menschen und wie macht man es? Krzysztof Gierałtowski widmet sich seit 40 Jahren ausschließlich dem Menschen. Und zwar dem isolierten Menschen\, dessen Persönlichkeit das Bild füllt\, der wichtig und interessant ist im Bezug auf sich selbst: „Jeder hat Augen\, Ohren und eine Nase\, aber erst eine festgehaltene Grimasse\, ein Blitzen des Auges\, die Gesichtsstruktur oder die Anwesenheit eines magischen Gegenstands\, die Kreuzung mit dem Blickwinkel der Kamera\, mit der Perspektive des Objekts lassen ein subjektives Porträt entstehen. Ein subjektives Porträt hat keinen Anspruch auf objektive Wahrheit; es ist eher die ureigene Impression eines engagierten Fotografen. Am wichtigsten dabei ist der Streit um das Wesen des Porträts\, um die Proportionen\, d.h.\, was der Künstler und was das Modell dazu beigesteuert haben.“ In Deutschland sind die Angehörigen der polnischen Intelligenz wenig bekannt und die Porträts geben keinen Hinweis auf ihren Beruf oder Bekanntheitsgrad\, sondern zeigen ihre Persönlichkeit\, ihre Gefühle und Wünsche. Kurze persönliche Kommentare des Künstlers zum Modell oder der Entstehungssituation geben Aufschluss über die gesellschaftliche Bedeutung der Personen\, ihre Bedeutung als Menschen aber erschließt sich dem Betrachter durch die Fotografien. \nEröffnung: 4. Mai 2012\, 19 Uhr. Der Eintritt zur Eröffnung ist frei.
URL:https://izm.de/event/polnische-individualitaten-fotografien-von-krzysztof-gieraltowski/
CATEGORIES:Ausstellung
ATTACH;FMTTYPE=image/jpeg:https://izm.de/wp-content/uploads/2012/02/Zapasiewicz-do-gazety_klein.jpg
END:VEVENT
BEGIN:VEVENT
DTSTART;VALUE=DATE:20120703
DTEND;VALUE=DATE:20120910
DTSTAMP:20260423T135737
CREATED:20120705T123947Z
LAST-MODIFIED:20120705T123947Z
UID:10001272-1341273600-1347235199@izm.de
SUMMARY:Konrad Adenauer - Charles de Gaulle
DESCRIPTION:Am 22. Januar 2013 jährt sich zum 50. Mal die Unterzeichnung des deutsch\nfranzösischen Freundschaftsvertrags\, des sogenannten Elysee-Vertrags. Aus\ndiesem Anlass haben Berlin und Paris ein deutsch-französisches Jahr ausgerufen\,\ndas im September beginnt und in dem an die historische Bedeutung der deutsch\nfranzösischen Annäherung unter Konrad Adenauer und Charles de Gaulle erinnert\nwerden soll.\nDer Vertragsunterzeichnung gingen zwei vorbereitende Reisen des deutschen\nBundeskanzlers und des französischen in das jeweilige Nachbarland voraus\,\ndie einen bleibenden Eindruck bei den Menschen diesseits und jenseits des\nRheins hinterließen.\nCharles de Gaulle unternahm im September 1962 eine einwöchige Reise nach\nDeutschland\, die ihn nach Ludwigsburg\, Bonn und Düsseldorf führte. Er wandte sich\ndabei insbesondere an die jungen Deutschen und sprach über die gemeinsame\nVerantwortung Deutschlands und Frankreichs für Europa.\nDoch zunächst begab sich Konrad Adenauer vom 2.-8. Juli 1962 auf Staatsbesuch\nnach Frankreich\, der ihm viele Sympathien einbrachte und ihren Höhepunkt in\nAachens Partnerstadt Reims erreichte. Dort nahmen am 8. Juli 1962 die beiden\nStaatsoberhäupter gemeinsam an einem Te Deum im Chor der Kathedrale teil\, dem\nGebäude\, das im Ersten Weltkrieg durch deutsche Soldaten zerstört worden war.\nDieser bedeutsamen Geste der Freundschaft gedenkt die Stadt Reims in einer\nFeierstunde am 8. Juli 2012\, an der neben einer Delegation aus Aachen auch der\nfranzösische Staatspräsident Francois Hollande und Bundeskanzlerin Angela Merkel\nteilnehmen werden.\nIn Aachen möchte das Institut Francais mit einer Ausstellung von zeitgenössischen\nZeitungsartikeln und Karikaturen im Zeitungsmuseum an die\nhistorischen Ereignisse und vor allem an die Verdienste von Konrad Adenauer und\nCharles de Gaulle erinnern. Die Dokumente wurden von einem jungen Franzosen\nzusammengestellt\, der derzeit ein Praktikum im Institut Francais in Aachen\nabsolviert.
URL:https://izm.de/event/konrad-adenauer-charles-de-gaulle/
CATEGORIES:Ausstellung
ATTACH;FMTTYPE=image/jpeg:https://izm.de/wp-content/uploads/2012/07/220px-Floor_tile_in_front_of_cathedral_Reims.jpg
END:VEVENT
BEGIN:VEVENT
DTSTART;TZID=Europe/Berlin:20120710T100000
DTEND;TZID=Europe/Berlin:20120713T140000
DTSTAMP:20260423T135737
CREATED:20120629T061707Z
LAST-MODIFIED:20120629T061707Z
UID:10001270-1341914400-1342188000@izm.de
SUMMARY:„Mach’ Dein eigenes Buch!“
DESCRIPTION:Sei Erzähler\, Künstler und Buchbinder in einer Person und\ngestalte dein eigenes Buch von der ersten Idee bis zum letzten\nStich. Jetzt auch mit witzigen Pop-Ups! \n4tägiger Workshop \nLeitung: Petra Hellwig \nSommerferien\nDienstag – Freitag\n10.-13.07.2012 jeweils 10 – 14 Uhr\n8 – 14 Jahre\nAnmeldung erforderlich\n58 Euro / ermäßigt 42 Euro
URL:https://izm.de/event/mach-dein-eigenes-buch/
CATEGORIES:Veranstaltungen
ATTACH;FMTTYPE=image/jpeg:https://izm.de/wp-content/uploads/2011/09/lesung_small.jpg
END:VEVENT
BEGIN:VEVENT
DTSTART;TZID=Europe/Berlin:20120720T190000
DTEND;TZID=Europe/Berlin:20120720T220000
DTSTAMP:20260423T135737
CREATED:20120613T122024Z
LAST-MODIFIED:20120613T122024Z
UID:10001252-1342810800-1342821600@izm.de
SUMMARY:Vernissage Henri Cartier-Bresson "Russia"
DESCRIPTION:
URL:https://izm.de/event/vernissage-henri-cartier-bresson-russia/
CATEGORIES:Veranstaltungen
ATTACH;FMTTYPE=image/jpeg:https://izm.de/wp-content/uploads/2012/06/PAR46330_700.jpg
END:VEVENT
BEGIN:VEVENT
DTSTART;VALUE=DATE:20120721
DTEND;VALUE=DATE:20121029
DTSTAMP:20260423T135737
CREATED:20120613T122227Z
LAST-MODIFIED:20120613T122227Z
UID:10001256-1342828800-1351468799@izm.de
SUMMARY:>Russia< - Fotografien von Henri Cartier-Bresson
DESCRIPTION:Henri Cartier-Bresson ist 1953 der erste Fotograf\, der nach dem Tode Stalins die Sowjetunion bereisen darf. Sein Werk erschließt mit 48 Arbeiten einen einzigartigen Einblick in ein bis dahin fremdes und unbekanntes Land. \nIm Laufe weiterer Reisen gelingt es ihm\, sowohl die Veränderungen als auch das Wesen dieses riesigen Reiches mit der Kamera zu erfassen. Cartier Bresson sagt dazu selbst: „Neunzehn Jahre nach meiner ersten Reise sehnte ich mich zurück und besuchte Russland erneut. Es gibt nichts Aufschlussreicheres als ein Land mit sich selbst zu vergleichen\, um seine Unterschiede zu begreifen und den Faden der Kontinuität zu entdecken.“ \nHenri Cartier-Bresson beschäftigte sich bereits seit 1930 intensiv mit der Fotografie. Während des Spanischen Bürgerkrieges (1936 – 1939) bereiste er das Land und arbeitete an Filmaufnahmen über Verwundete mit\, aber auch an solchen über eine amerikanische Brigade. Seine Beschäftigung mit dem Medium Film gipfelte in seiner Arbeit als Regieassistent bei Jean Renoir\, für den er fast drei Jahre tätig war. 1947 war er neben Robert Capa\, David Seymour und George Rodger Mitgründer der Agentur Magnum. In den Jahren danach folgten zahlreiche Auslandsreisen\, unter anderem nach Indien und China und schließlich in die Sowjetunion. 1955 stellte Cartier-Bresson als erster Fotograf im Louvre aus. Ein Jahr vor seinem Tod im Jahre 2004 gründete er die Fondation Cartier-Bresson\, die den Nachlass verwaltet und Ausstellungen ermöglicht.
URL:https://izm.de/event/russia-fotgrafien-von-henri-cartier-bresson/
CATEGORIES:Ausstellung
ATTACH;FMTTYPE=image/jpeg:https://izm.de/wp-content/uploads/2012/06/PAR30143_700.jpg
END:VEVENT
BEGIN:VEVENT
DTSTART;TZID=Europe/Berlin:20120722T160000
DTEND;TZID=Europe/Berlin:20120722T170000
DTSTAMP:20260423T135737
CREATED:20120720T092653Z
LAST-MODIFIED:20120720T092653Z
UID:10001276-1342972800-1342976400@izm.de
SUMMARY:Öffentliche Führung "Russia" - Henri Cartier-Bresson
DESCRIPTION:Sonntag 16 – 17 Uhr \nDie Führung durch die Sonderausstellung des IZM findet in deutscher Sprache statt. Es gelten die regulären Eintrittspreise des Museums ohne Zusatzkosten. Eine Anmeldung ist nicht erforderlich.
URL:https://izm.de/event/offentliche-fuhrung-russia-henri-cartier-bresson/
CATEGORIES:Führungen
ATTACH;FMTTYPE=image/jpeg:https://izm.de/wp-content/uploads/2012/06/PAR30143_700.jpg
END:VEVENT
END:VCALENDAR