BEGIN:VCALENDAR
VERSION:2.0
PRODID:-//IZM - ECPv6.15.17.1//NONSGML v1.0//EN
CALSCALE:GREGORIAN
METHOD:PUBLISH
X-ORIGINAL-URL:https://izm.de
X-WR-CALDESC:Veranstaltungen für IZM
REFRESH-INTERVAL;VALUE=DURATION:PT1H
X-Robots-Tag:noindex
X-PUBLISHED-TTL:PT1H
BEGIN:VTIMEZONE
TZID:Europe/Berlin
BEGIN:DAYLIGHT
TZOFFSETFROM:+0100
TZOFFSETTO:+0200
TZNAME:CEST
DTSTART:20130331T010000
END:DAYLIGHT
BEGIN:STANDARD
TZOFFSETFROM:+0200
TZOFFSETTO:+0100
TZNAME:CET
DTSTART:20131027T010000
END:STANDARD
BEGIN:DAYLIGHT
TZOFFSETFROM:+0100
TZOFFSETTO:+0200
TZNAME:CEST
DTSTART:20140330T010000
END:DAYLIGHT
BEGIN:STANDARD
TZOFFSETFROM:+0200
TZOFFSETTO:+0100
TZNAME:CET
DTSTART:20141026T010000
END:STANDARD
BEGIN:DAYLIGHT
TZOFFSETFROM:+0100
TZOFFSETTO:+0200
TZNAME:CEST
DTSTART:20150329T010000
END:DAYLIGHT
BEGIN:STANDARD
TZOFFSETFROM:+0200
TZOFFSETTO:+0100
TZNAME:CET
DTSTART:20151025T010000
END:STANDARD
END:VTIMEZONE
BEGIN:VEVENT
DTSTART;TZID=Europe/Berlin:20140426T100000
DTEND;TZID=Europe/Berlin:20140426T140000
DTSTAMP:20260422T080012
CREATED:20140207T114441Z
LAST-MODIFIED:20140226T104729Z
UID:10001504-1398506400-1398520800@izm.de
SUMMARY:Young Street - Vom Pressefoto zur Street Art
DESCRIPTION:Was ist ein gutes Foto? Wie kann ich mit wenigen Bildern eine Geschichte erzählen? Der Workshop beginnt mit einer kurzen Führung durch das IZM und Beispielen zur Reportagefotografie. Ausgerüstet mit Tipps zum sicheren Umgang mit der eigenen Kamera und gestalterischen Elementen geht es dann raus auf die Straße\, denn interessante Motive finden sich an jeder Ecke. Abschließend wird die „Beute“ analysiert. Bitte eigene Digitalkamera\, Akku und Speicherkarte mitbringen!\nDer Kurs findet auch bei schlechtem Wetter statt. \nKosten: 20 € / erm. 15 € \nAnmeldung erforderlich
URL:https://izm.de/event/young-street-vom-pressefoto-zur-street-art/
CATEGORIES:Workshops
ATTACH;FMTTYPE=image/jpeg:https://izm.de/wp-content/uploads/2014/02/Ein-Herz-für-Streetart_web.jpg
END:VEVENT
BEGIN:VEVENT
DTSTART;TZID=Europe/Berlin:20140426T120000
DTEND;TZID=Europe/Berlin:20140426T140000
DTSTAMP:20260422T080012
CREATED:20140416T121933Z
LAST-MODIFIED:20140416T125404Z
UID:10001828-1398513600-1398520800@izm.de
SUMMARY:Gedichte zu Kaiser Karl
DESCRIPTION:Es lesen Dieter Hans und Manfred Freude. \nDie Lesung findet in Kooperation der Silbenschmiede mit dem Internationalen Zeitungsmuseum der Stadt Aachen statt. \n Keine Anmeldung erforderlich\nEintritt frei
URL:https://izm.de/event/gedichte-zu-kaiser-karl-karl-der-grose/
CATEGORIES:Lesung,Veranstaltungen
ATTACH;FMTTYPE=image/jpeg:https://izm.de/wp-content/uploads/2011/09/lesung_small.jpg
END:VEVENT
END:VCALENDAR