BEGIN:VCALENDAR
VERSION:2.0
PRODID:-//IZM - ECPv6.15.17.1//NONSGML v1.0//EN
CALSCALE:GREGORIAN
METHOD:PUBLISH
X-WR-CALNAME:IZM
X-ORIGINAL-URL:https://izm.de
X-WR-CALDESC:Veranstaltungen für IZM
REFRESH-INTERVAL;VALUE=DURATION:PT1H
X-Robots-Tag:noindex
X-PUBLISHED-TTL:PT1H
BEGIN:VTIMEZONE
TZID:Europe/Berlin
BEGIN:DAYLIGHT
TZOFFSETFROM:+0100
TZOFFSETTO:+0200
TZNAME:CEST
DTSTART:20120325T010000
END:DAYLIGHT
BEGIN:STANDARD
TZOFFSETFROM:+0200
TZOFFSETTO:+0100
TZNAME:CET
DTSTART:20121028T010000
END:STANDARD
BEGIN:DAYLIGHT
TZOFFSETFROM:+0100
TZOFFSETTO:+0200
TZNAME:CEST
DTSTART:20130331T010000
END:DAYLIGHT
BEGIN:STANDARD
TZOFFSETFROM:+0200
TZOFFSETTO:+0100
TZNAME:CET
DTSTART:20131027T010000
END:STANDARD
BEGIN:DAYLIGHT
TZOFFSETFROM:+0100
TZOFFSETTO:+0200
TZNAME:CEST
DTSTART:20140330T010000
END:DAYLIGHT
BEGIN:STANDARD
TZOFFSETFROM:+0200
TZOFFSETTO:+0100
TZNAME:CET
DTSTART:20141026T010000
END:STANDARD
BEGIN:DAYLIGHT
TZOFFSETFROM:+0100
TZOFFSETTO:+0200
TZNAME:CEST
DTSTART:20150329T010000
END:DAYLIGHT
BEGIN:STANDARD
TZOFFSETFROM:+0200
TZOFFSETTO:+0100
TZNAME:CET
DTSTART:20151025T010000
END:STANDARD
END:VTIMEZONE
BEGIN:VEVENT
DTSTART;VALUE=DATE:20131122
DTEND;VALUE=DATE:20140426
DTSTAMP:20260422T080006
CREATED:20130923T161057Z
LAST-MODIFIED:20140206T101334Z
UID:10001643-1385078400-1398470399@izm.de
SUMMARY:„Niemand hat die Absicht einen Krieg zu beginnen“
DESCRIPTION:Unter dem Titel „Niemand hat die Absicht einen Krieg zu beginnen“ widmet sich das IZM der Vorgeschichte des Ersten Weltkrieges. Es wird dargestellt\, wie die Menschen in Aachen und ihre Nachbarn zwischen Frieden\, Annäherung aber auch sich steigerndem Nationalismus am Vorabend der „Urkatastrophe des 20. Jahrhunderts“ gelebt haben. \nZeitungen aus den Beständen des Internationalen Zeitungsmuseums illustrieren die Nachbarschaft und den Grenzverkehr der heutigen Euregio.  Zahlreiche Fotos und Postkarten runden das Bild ab. \n  \nFoto: Stadtarchiv Aachen \n 
URL:https://izm.de/event/niemand-hat-die-absicht-einen-krieg-zu-beginnen/
CATEGORIES:Ausstellung
ATTACH;FMTTYPE=image/jpeg:https://izm.de/wp-content/uploads/2013/10/Fotos_1630.jpg
END:VEVENT
BEGIN:VEVENT
DTSTART;VALUE=DATE:20140414
DTEND;VALUE=DATE:20140418
DTSTAMP:20260422T080006
CREATED:20140211T082947Z
LAST-MODIFIED:20140226T104802Z
UID:10001821-1397433600-1397779199@izm.de
SUMMARY:Karl im Ohr - eine Zeitreise
DESCRIPTION:Wer war eigentlich Karl der Große\, von dem in Aachen so oft gesprochen wird? Was hat er gemacht\, dass man heute – 1200 Jahre nach seinem Tod – noch Geschichten über ihn erzählt? Mit Mikrofon und Aufnahmegerät ausgerüstet\, begeben wir uns auf eine Zeitreise in das Jahr 800. Wir gehen in der Stadt auf Spurensuche und besuchen Orte\, die Karl der Große kannte. Wir sammeln Geräusche und Gespräche und machen eine eigene Geschichte daraus. Wir könnten Karl treffen und ein Interview mit ihm führen. Oder er könnte mit uns in die Gegenwart reisen und Aachen heute erleben….  Unsere Ideen fügen wir zu einem Hörspiel zusammen. Alles wird selbst gemacht: entwickeln gemeinsam die Geschichte\, sprechen Texte und Dialoge mit verteilten Rollen ein und fügen Musik und Geräusche hinzu.  \nLeitung: Karo Schröder / Sofie Malich  \n4-tägiger Workshop für Kinder ab 8 Jahren\nMontag\, 14. April – Do\, 17. April 2014 / jeweils  von 10 –  14 Uhr \nAnmeldung erforderlich
URL:https://izm.de/event/karl-im-ohr-eine-zeitreise/
CATEGORIES:Workshops
ATTACH;FMTTYPE=image/jpeg:https://izm.de/wp-content/uploads/2014/02/Charlemagne_et_Louis_le_Pieux.jpg
END:VEVENT
END:VCALENDAR