BEGIN:VCALENDAR
VERSION:2.0
PRODID:-//IZM - ECPv6.15.17.1//NONSGML v1.0//EN
CALSCALE:GREGORIAN
METHOD:PUBLISH
X-ORIGINAL-URL:https://izm.de
X-WR-CALDESC:Veranstaltungen für IZM
REFRESH-INTERVAL;VALUE=DURATION:PT1H
X-Robots-Tag:noindex
X-PUBLISHED-TTL:PT1H
BEGIN:VTIMEZONE
TZID:Europe/Berlin
BEGIN:DAYLIGHT
TZOFFSETFROM:+0100
TZOFFSETTO:+0200
TZNAME:CEST
DTSTART:20120325T010000
END:DAYLIGHT
BEGIN:STANDARD
TZOFFSETFROM:+0200
TZOFFSETTO:+0100
TZNAME:CET
DTSTART:20121028T010000
END:STANDARD
BEGIN:DAYLIGHT
TZOFFSETFROM:+0100
TZOFFSETTO:+0200
TZNAME:CEST
DTSTART:20130331T010000
END:DAYLIGHT
BEGIN:STANDARD
TZOFFSETFROM:+0200
TZOFFSETTO:+0100
TZNAME:CET
DTSTART:20131027T010000
END:STANDARD
BEGIN:DAYLIGHT
TZOFFSETFROM:+0100
TZOFFSETTO:+0200
TZNAME:CEST
DTSTART:20140330T010000
END:DAYLIGHT
BEGIN:STANDARD
TZOFFSETFROM:+0200
TZOFFSETTO:+0100
TZNAME:CET
DTSTART:20141026T010000
END:STANDARD
END:VTIMEZONE
BEGIN:VEVENT
DTSTART;VALUE=DATE:20130309
DTEND;VALUE=DATE:20130610
DTSTAMP:20260423T011715
CREATED:20130108T151403Z
LAST-MODIFIED:20130108T151403Z
UID:10001426-1362787200-1370822399@izm.de
SUMMARY:BRIGITTE BURGMER: DIE GUTENBERG – GALAXIS TITEL-BILDER
DESCRIPTION:Was vermittelt eine Zeitung? Wie wirken Nachrichten? Welche Ereignisse sind relevant?\nZeitungen und ihre Darstellung von Ereignissen beantworten diese Fragen.\nDas gedruckte Medium Zeitung steht für eine andere Art der Kommunikation als die elektronische: „The medium ist the message“. Dieses Diktum Marshall McLuhans ist zentral für das Verständnis von Medien und ihrer Funktionsweise. Brigitte Burgmer lässt in ihrer Werkserie „Titel-Bilder“ Zeugnisse unserer damaligen Kulturlandschaft entstehen. Der zeitliche Abstand wird bewusst gewählt: die Zeitungen\, unter anderem aus den USA\, Deutschland oder der UDSSR\, stammen aus dem Jahr 1981. Mithilfe diverser Techniken aus Malerei und Collage werden die Titelbilder der Zeitungen umgewandelt und neu in Szene gesetzt. In der Gestaltung nimmt die Künstlerin dabei Bezug auf die materielle\, haptische Qualität des Mediums „Zeitung“ und auf die inhaltliche Dimension. Sie spannt einen weiten thematischen Bogen über mediale Kommunikation und Politik bis hin zur Herstellung sowie Zweckentfremdung von Zeitungen. Burgmers Titelbilder konfrontieren mit Bildsatire sowie Zeitkritik und zeichnen ein umfassendes Panorama der „Gutenberg Galaxis“\, der Welt des (analogen) Drucks.
URL:https://izm.de/event/die-gutenberg-galaxis-titel-bilder/
CATEGORIES:Ausstellung
ATTACH;FMTTYPE=image/jpeg:https://izm.de/wp-content/uploads/2013/01/No-22-Kanada-34_korr_210.jpg
END:VEVENT
BEGIN:VEVENT
DTSTART;VALUE=DATE:20130412
DTEND;VALUE=DATE:20130513
DTSTAMP:20260423T011715
CREATED:20130327T111054Z
LAST-MODIFIED:20130327T111054Z
UID:10001494-1365724800-1368403199@izm.de
SUMMARY:Litauen 1916 – Alltag und Besatzung im Ersten Weltkrieg
DESCRIPTION:Anlässlich der Karlspreisverleihung zeigt das Internationale Zeitungsmuseum in seiner Bibliothek eine kleine Ausstellung zum Thema Litauen. Im Ersten Weltkrieg war Litauen Zentrum eines deutschen Besatzungsgebietes mit dem Namen OberOst. Um die zahlreichen Verordnungen der Besatzer zu kommunizieren\, wurden Zeitungen herausgegeben mit dem Ziel\, möglichst alle Bevölkerungsgruppen zu erreichen. Deshalb waren mehrsprachige Ausgaben vonnöten\, aber auch Zeitungen für bestimmte Bevölkerungsgruppen. Präsentiert werden im IZM neben mehrsprachigen Zeitungen auch Ausgaben der jiddischen Zeitung „Letzte Najes“ aus Wilna (Vilnius). Die heutige Hauptstadt war damals als „Jerusalem des Ostens“ in Europa bekannt. Abgerundet wird das Bild der deutschen Besatzung durch einige Ausgaben und Bilder aus der Zeitung der 10. Armee\, die ein einzigartiges Panorama Litauens zeigt und Aspekte der zum Teil gewalttätigen deutschen Herrschaft. Die Ausstellung wird kuratiert von Andreas Düspohl.
URL:https://izm.de/event/litauen-1916-alltag-und-besatzung-im-ersten-weltkrieg/
CATEGORIES:Ausstellung
ATTACH;FMTTYPE=image/jpeg:https://izm.de/wp-content/uploads/2013/03/Zeitung_10_Armee.jpg
END:VEVENT
BEGIN:VEVENT
DTSTART;TZID=Europe/Berlin:20130512T100000
DTEND;TZID=Europe/Berlin:20130512T180000
DTSTAMP:20260423T011715
CREATED:20130416T073029Z
LAST-MODIFIED:20130416T073029Z
UID:10001532-1368352800-1368381600@izm.de
SUMMARY:Internationaler Museumstag
DESCRIPTION:  \nDie neue multimediale Dauerausstellung im kernsanierten Großen Haus von Aachen stellt nicht mehr nur die Zeitung\, sondern auch andere Medien wie Radio und Fernsehen in den Mittelpunkt. Nutzen Sie die Gelegenheit\, das Medienmuseum bei freiem Eintritt zu besuchen und ein Getränk im neuen Museumscafe zu genießen! \nÖffentliche Führungen \n12 Uhr: Das „Grosse Haus von Aachen“ und seine Geschichte \n14 Uhr: Führung durch die Dauerausstellung des Medienmuseums \n16 Uhr: Führung durch die Ausstellung „Die Gutenberg-Galaxis“
URL:https://izm.de/event/internationaler-museumstag/
CATEGORIES:Veranstaltungen
ATTACH;FMTTYPE=image/jpeg:https://izm.de/wp-content/uploads/2013/04/imt12052013.jpg
END:VEVENT
BEGIN:VEVENT
DTSTART;TZID=Europe/Berlin:20130512T160000
DTEND;TZID=Europe/Berlin:20130512T170000
DTSTAMP:20260423T011715
CREATED:20130416T093858Z
LAST-MODIFIED:20130416T093858Z
UID:10001330-1368374400-1368378000@izm.de
SUMMARY:Die Gutenberg- Galaxis
DESCRIPTION:
URL:https://izm.de/event/die-gutenberg-galaxis/
CATEGORIES:Führungen
ATTACH;FMTTYPE=image/jpeg:https://izm.de/wp-content/uploads/2013/04/Burgnmer_führ.jpg
END:VEVENT
END:VCALENDAR