BEGIN:VCALENDAR
VERSION:2.0
PRODID:-//IZM - ECPv6.15.17.1//NONSGML v1.0//EN
CALSCALE:GREGORIAN
METHOD:PUBLISH
X-ORIGINAL-URL:https://izm.de
X-WR-CALDESC:Veranstaltungen für IZM
REFRESH-INTERVAL;VALUE=DURATION:PT1H
X-Robots-Tag:noindex
X-PUBLISHED-TTL:PT1H
BEGIN:VTIMEZONE
TZID:Europe/Berlin
BEGIN:DAYLIGHT
TZOFFSETFROM:+0100
TZOFFSETTO:+0200
TZNAME:CEST
DTSTART:20110327T010000
END:DAYLIGHT
BEGIN:STANDARD
TZOFFSETFROM:+0200
TZOFFSETTO:+0100
TZNAME:CET
DTSTART:20111030T010000
END:STANDARD
BEGIN:DAYLIGHT
TZOFFSETFROM:+0100
TZOFFSETTO:+0200
TZNAME:CEST
DTSTART:20120325T010000
END:DAYLIGHT
BEGIN:STANDARD
TZOFFSETFROM:+0200
TZOFFSETTO:+0100
TZNAME:CET
DTSTART:20121028T010000
END:STANDARD
BEGIN:DAYLIGHT
TZOFFSETFROM:+0100
TZOFFSETTO:+0200
TZNAME:CEST
DTSTART:20130331T010000
END:DAYLIGHT
BEGIN:STANDARD
TZOFFSETFROM:+0200
TZOFFSETTO:+0100
TZNAME:CET
DTSTART:20131027T010000
END:STANDARD
END:VTIMEZONE
BEGIN:VEVENT
DTSTART;VALUE=DATE:20120721
DTEND;VALUE=DATE:20121029
DTSTAMP:20260423T123951
CREATED:20120613T122227Z
LAST-MODIFIED:20120613T122227Z
UID:10001256-1342828800-1351468799@izm.de
SUMMARY:>Russia< - Fotografien von Henri Cartier-Bresson
DESCRIPTION:Henri Cartier-Bresson ist 1953 der erste Fotograf\, der nach dem Tode Stalins die Sowjetunion bereisen darf. Sein Werk erschließt mit 48 Arbeiten einen einzigartigen Einblick in ein bis dahin fremdes und unbekanntes Land. \nIm Laufe weiterer Reisen gelingt es ihm\, sowohl die Veränderungen als auch das Wesen dieses riesigen Reiches mit der Kamera zu erfassen. Cartier Bresson sagt dazu selbst: „Neunzehn Jahre nach meiner ersten Reise sehnte ich mich zurück und besuchte Russland erneut. Es gibt nichts Aufschlussreicheres als ein Land mit sich selbst zu vergleichen\, um seine Unterschiede zu begreifen und den Faden der Kontinuität zu entdecken.“ \nHenri Cartier-Bresson beschäftigte sich bereits seit 1930 intensiv mit der Fotografie. Während des Spanischen Bürgerkrieges (1936 – 1939) bereiste er das Land und arbeitete an Filmaufnahmen über Verwundete mit\, aber auch an solchen über eine amerikanische Brigade. Seine Beschäftigung mit dem Medium Film gipfelte in seiner Arbeit als Regieassistent bei Jean Renoir\, für den er fast drei Jahre tätig war. 1947 war er neben Robert Capa\, David Seymour und George Rodger Mitgründer der Agentur Magnum. In den Jahren danach folgten zahlreiche Auslandsreisen\, unter anderem nach Indien und China und schließlich in die Sowjetunion. 1955 stellte Cartier-Bresson als erster Fotograf im Louvre aus. Ein Jahr vor seinem Tod im Jahre 2004 gründete er die Fondation Cartier-Bresson\, die den Nachlass verwaltet und Ausstellungen ermöglicht.
URL:https://izm.de/event/russia-fotgrafien-von-henri-cartier-bresson/
CATEGORIES:Ausstellung
ATTACH;FMTTYPE=image/jpeg:https://izm.de/wp-content/uploads/2012/06/PAR30143_700.jpg
END:VEVENT
BEGIN:VEVENT
DTSTART;TZID=Europe/Berlin:20120915T130000
DTEND;TZID=Europe/Berlin:20120916T120000
DTSTAMP:20260423T123951
CREATED:20120816T103913Z
LAST-MODIFIED:20120816T103913Z
UID:10001154-1347714000-1347796800@izm.de
SUMMARY:„Streetphotography“
DESCRIPTION:Nach einer Führung durch die Ausstellung RUSSIA von Henri Cartier-Bresson\nwerden im „Technik- und Theorieblock“ optimale Techniken und Tricks für\nden perfekten Moment und den sicheren Umgang mit der eigenen Kamera vorgestellt.\nNach einer Kaffeepause geht es dann raus auf die Straße. Am Sonntagvormittag\nwird abschließend eine Foto-Auswahl präsentiert und analysiert. \nBenötigtes Equipment: (Digital-)Kamera\, Speichermedium (SD-Karte\, USB-Stick)\nmit Fotoauswahl für die Präsentation. \nFür Anfänger und Fortgeschrittene – Anmeldung erforderlich. \nLeitung: Pasca Vretinari\, Freie Fotodesignerin / Belinda Petri\, Kunsthistorikerin \nKosten: 27 € / erm. 21 €
URL:https://izm.de/event/streetphotography/
CATEGORIES:Veranstaltungen
END:VEVENT
BEGIN:VEVENT
DTSTART;TZID=Europe/Berlin:20120916T140000
DTEND;TZID=Europe/Berlin:20120916T150000
DTSTAMP:20260423T123951
CREATED:20110328T015312Z
LAST-MODIFIED:20110328T015312Z
UID:10001198-1347804000-1347807600@izm.de
SUMMARY:Öffentliche Führung
DESCRIPTION:Sonntag 14 – 15 Uhr \nDie Führung durch das Medienmusem des IZM findet in deutscher Sprache statt. Es gelten die regulären Eintrittspreise des Museums ohne Zusatzkosten. Eine Anmeldung ist nicht erforderlich.
URL:https://izm.de/event/de-oeffentliche-fuehrung-en-oeffentliche-fuehrung/
CATEGORIES:Führungen
ATTACH;FMTTYPE=image/jpeg:https://izm.de/wp-content/uploads/2011/03/fuerungen_neu_small.jpg
END:VEVENT
END:VCALENDAR