BEGIN:VCALENDAR
VERSION:2.0
PRODID:-//IZM - ECPv6.15.17.1//NONSGML v1.0//EN
CALSCALE:GREGORIAN
METHOD:PUBLISH
X-WR-CALNAME:IZM
X-ORIGINAL-URL:https://izm.de
X-WR-CALDESC:Veranstaltungen für IZM
REFRESH-INTERVAL;VALUE=DURATION:PT1H
X-Robots-Tag:noindex
X-PUBLISHED-TTL:PT1H
BEGIN:VTIMEZONE
TZID:Europe/Berlin
BEGIN:DAYLIGHT
TZOFFSETFROM:+0100
TZOFFSETTO:+0200
TZNAME:CEST
DTSTART:20110327T010000
END:DAYLIGHT
BEGIN:STANDARD
TZOFFSETFROM:+0200
TZOFFSETTO:+0100
TZNAME:CET
DTSTART:20111030T010000
END:STANDARD
BEGIN:DAYLIGHT
TZOFFSETFROM:+0100
TZOFFSETTO:+0200
TZNAME:CEST
DTSTART:20120325T010000
END:DAYLIGHT
BEGIN:STANDARD
TZOFFSETFROM:+0200
TZOFFSETTO:+0100
TZNAME:CET
DTSTART:20121028T010000
END:STANDARD
BEGIN:DAYLIGHT
TZOFFSETFROM:+0100
TZOFFSETTO:+0200
TZNAME:CEST
DTSTART:20130331T010000
END:DAYLIGHT
BEGIN:STANDARD
TZOFFSETFROM:+0200
TZOFFSETTO:+0100
TZNAME:CET
DTSTART:20131027T010000
END:STANDARD
END:VTIMEZONE
BEGIN:VEVENT
DTSTART;VALUE=DATE:20120114
DTEND;VALUE=DATE:20120416
DTSTAMP:20260423T234435
CREATED:20110926T093944Z
LAST-MODIFIED:20110926T093944Z
UID:10001216-1326499200-1334534399@izm.de
SUMMARY:.../Nachbilder/...
DESCRIPTION:Die Arbeiten von Reiner Nachtwey greifen zurück auf alltägliche\, journalistische Fotografien aus der regionalen und überregionalen Tagespresse. \nAls Fundstücke fungieren diese Bilder für den Künstler nicht als Abbilder vergangener Ereignisse\, sondern lenken seinen Blick auf mögliche Ereignisse die auch hätten sein können. Ihrem Zeitungskontext beraubt und als leere Bildhüllen\, bieten sie dem Künstler die Chance\, sie mit neuen Inhalten zu füllen. Das Schicksal der Fotografie\, die kühle Gleichgültigkeit massenmedialer\, digitaler Bilder\, eröffnet dem Künstler die Möglichkeit\, die gefundenen Bilder als Rohstoff neuer Tages- und Welterzählungen zu nutzen. Die Ausstellung befragt den Kontext Massenmedium – Zeitung\, journalistische Fotografie\, netzbasierte mobile Nachrichtenübermittlung – ebenso wie das Faktum Kunst und dessen Vermögen\, im Strom alltäglicher Bilder Differenzen markieren zu können. \n \nDie Ausstellung zeigt Künstlerbücher mit Bilderzählungen\, digitale Fotofilme und Bildanimationen\, die als geloopte Videominiaturen Möglichkeiten nonlinearen Erzählens erkunden\, Fotosequenzen\, die wie Bruchstücke einer Filmerzählung erscheinen;und Telefonzeichnungen\, die holzschnittartig mediale Bilder transformieren.
URL:https://izm.de/event/das-internationale-zeitungsmuseum-prasentiert-die-ausstellung-nachbilder-des-aachener-kunstlers-reiner-nachtwey/
CATEGORIES:Ausstellung
ATTACH;FMTTYPE=image/png:https://izm.de/wp-content/uploads/2011/09/nachtwey_small.png
END:VEVENT
END:VCALENDAR