BEGIN:VCALENDAR
VERSION:2.0
PRODID:-//IZM - ECPv6.15.17.1//NONSGML v1.0//EN
CALSCALE:GREGORIAN
METHOD:PUBLISH
X-WR-CALNAME:IZM
X-ORIGINAL-URL:https://izm.de
X-WR-CALDESC:Veranstaltungen für IZM
REFRESH-INTERVAL;VALUE=DURATION:PT1H
X-Robots-Tag:noindex
X-PUBLISHED-TTL:PT1H
BEGIN:VTIMEZONE
TZID:Europe/Berlin
BEGIN:DAYLIGHT
TZOFFSETFROM:+0100
TZOFFSETTO:+0200
TZNAME:CEST
DTSTART:20100328T010000
END:DAYLIGHT
BEGIN:STANDARD
TZOFFSETFROM:+0200
TZOFFSETTO:+0100
TZNAME:CET
DTSTART:20101031T010000
END:STANDARD
BEGIN:DAYLIGHT
TZOFFSETFROM:+0100
TZOFFSETTO:+0200
TZNAME:CEST
DTSTART:20110327T010000
END:DAYLIGHT
BEGIN:STANDARD
TZOFFSETFROM:+0200
TZOFFSETTO:+0100
TZNAME:CET
DTSTART:20111030T010000
END:STANDARD
BEGIN:DAYLIGHT
TZOFFSETFROM:+0100
TZOFFSETTO:+0200
TZNAME:CEST
DTSTART:20120325T010000
END:DAYLIGHT
BEGIN:STANDARD
TZOFFSETFROM:+0200
TZOFFSETTO:+0100
TZNAME:CET
DTSTART:20121028T010000
END:STANDARD
END:VTIMEZONE
BEGIN:VEVENT
DTSTART;VALUE=DATE:20110909
DTEND;VALUE=DATE:20111223
DTSTAMP:20260424T023019
CREATED:20110514T185813Z
LAST-MODIFIED:20110514T185813Z
UID:10001199-1315526400-1324598399@izm.de
SUMMARY:Die Zeitung in der Künstlerkarikatur von Honoré Daumier
DESCRIPTION:Das Internationale Zeitungsmuseum präsentiert im neu eröffneten Museum die Ausstellung „Die Zeitung in der Künstlerkarikatur von Honoré Daumier“ aus dem Deutschen Zeitungsmuseum in Wadgassen. Daumier gilt bis heute als der bekannteste französische Karikaturist des 19. Jahrhunderts. Sein Lebenswerk umfasst mehr als 4.000 Lithographien und 1.000 Holzschnitte. Vor allem seine Arbeiten für die satirischen Zeitschriften „La Caricature“ und „Le Charivari“\, für die er zwischen 1831 und 1832 arbeitete\, wurden weltberühmt.\nIm Mittelpunkt der Ausstellung stehen die bekannten Lithographien\, vor allem die Arbeiten\, die sich mit den Themen „Zeitung“ und „Zeitungsleser“ beschäftigen. Schwerpunkte bilden das Thema Pressefreiheit und Alltagsbetrachtungen rund um die Zeitung. Daumier veranschaulicht in seinen Karikaturen die schwierige Lage der Pressefreiheit im 19. Jahrhundert\, die durch Zensurverbote und Stempelsteuer geprägt war. Die Ausstellung beleuchtet zudem alltägliche Situationen und Probleme des Zeitungsgeschäfts\, z. B. den Kampf um Abonnementen\, die ständig größer werdenden Zeitungsformate und die verschiedenen Lesertypen von Zeitungen.\nKarikaturen\, die sich mit dem Thema der Emanzipation der Frau beschäftigen\, werden ab dem 19. September parallel zur Ausstellung im Zeitungsmuseum im Deutsch-Französischen Kulturinstitut in der Theaterstr. 67 gezeigt.
URL:https://izm.de/event/die-zeitung-in-der-kunstlerkarikatur-von-honore-daumier/
CATEGORIES:Ausstellung
ATTACH;FMTTYPE=image/jpeg:https://izm.de/wp-content/uploads/2011/05/daumier_ausstellung_teaserbild.jpg
END:VEVENT
END:VCALENDAR